{"text_format":"3","workbook":"xlsx","n_sheets":4,"sheets":["説明","基礎データシート","計算シート","年休累計シート"],"not_rendered":{"images":10,"macros":1,"comments":2},"read":"whole","date_system":"1900"}

{"sheet":"説明","index":0,"n_rows":47,"n_cols":2,"rows_kept":47}
[]
["注意事項"]
[null,"１日の勤務時間が７時間４５分以外のケースは対応していません。"]
[null,"休憩時間は３分割までしか対応していません。"]
[null,"土日祝日を含んだ年休には対応していません。"]
[null,"残日数のすべてを使い切る時は分単位での使用には対応していません。"]
[null,"時休と年休を続けて取得する場合は分けて入力してください。"]
[null,"本ソフトを使用中または使用した結果、万が一、何らかの不具合が生じてもPCチームは一切の責任を負いませんので、 あらかじめご了承ください。"]
[]
["操作説明"]
[null,"１　基礎データシートへのデータ入力"]
[null,"　①基礎データシートへ学校名、勤務時間、休憩時間、職員情報を入力します。"]
[null,"　②長期休業の情報を入力します。（休憩時間を変更している場合に対応するため）"]
[]
[null,"２　計算シートへのデータ入力　　　※青文字：ソフト操作　　緑文字：休暇簿記載"]
[null,"　①氏名欄をクリックして職員を選択します。"]
[null,"　②年休簿等を確認し、休暇取得前の残日数を入力します。"]
[null,"　③「取得日」には本日の日付が表示されています。曜日等で休憩時間が変更する場合は"]
[null,"　　休暇取得日を入力します。また、２日以上の年休の場合は終了日も入力します。"]
[null,"　④時休の場合は時休開始時間と時休終了時間を入力します。"]
[null,"　　また、時休の時間帯に休憩時間が含まれている場合は、備考欄に「休憩時間を除く」"]
[null,"　　と表示されますので、休暇簿へ記載する際は備考欄に「休憩時間を除く」と"]
[null,"　　記載してください。"]
[null,"　⑤入力した時間が半休となる場合は時間が灰色表示になり、備考欄に「午前」"]
[null,"　　または「午後」と表示されます。休暇簿へ記載する際は時間欄を記載せず、"]
[null,"　　備考欄に「午前」または「午後」と記載してください。"]
[null,"　⑥時間等の入力が終わると「取得時間」や「残日数・時間」が計算されます。"]
[null,"　　「残日数転記」ボタンをクリックすると年休累計シートに取得時間数等が"]
[null,"　　転記されます。また、計算シートの既取得分の欄にも転記されます。"]
[]
[null,"　⑦「出勤時間から時休」または「退勤時間まで時休」ボタンをクリックすると"]
[null,"　　休憩時間を考慮した時間をリスト選択できるようになります。"]
[null,"　　続けて右の「○h」のボタンをクリックすると出勤時刻から（退勤時刻まで）"]
[null,"　　○時間取得の場合の時間が表示されます。"]
[null,"　👇便利なショートカットキーを活用してみましょう！"]
[null,"　　ＡＬＴキーと下記のキーを一緒に押すことでボタンのクリックと同じ動作をします。"]
[null,"　　ｗ　　残日数転記"]
[null,"　　ｓ　　出勤時間から時休"]
[null,"　　ｅ　　退勤時間まで時休"]
[null,"　　1～7　取得時間○ｈ"]
[]
[null,"３　累計シートへのデータ入力"]
[null,"　①残日数の３行目に年休簿の「年次休暇の合計日数」を入力してください。"]
[null,"　②計算シートで「残日数転記」をクリックすると取得日数欄が入力され、"]
[null,"　　累計日数や残日数が計算されます。"]
[null,"　③「リセット」をクリックすると入力したデータが消去され、計算シートの"]
[null,"　　「既取得分」の欄が40日になります。40日以外の場合は再入力してください。"]

{"sheet":"基礎データシート","index":1,"n_rows":45,"n_cols":22,"rows_kept":45,"merged":[[2,2,2,5],[2,8,2,16],[3,2,4,2],[3,3,4,3],[3,4,4,4],[3,5,4,5],[3,8,4,8],[3,9,4,9],[3,10,3,11],[3,12,3,13],[3,14,3,15]]}
["基礎データ"]
[]
["学校名",null,"職員\n※同姓同名の場合は空白を半角にするなどして対応してください。",{"$nulls":5},"休憩時間",{"$nulls":9},"長期休業","開始日","終了日","休憩別途\n設定の有無"]
["青森市立青森小学校",null,"番号","職名","氏名","休憩班\n区分",null,null,"休憩班\n区分","曜日等","休憩1回目",null,"休憩2回目",null,"休憩3回目",null,"休憩時間",null,"年度始","4/1","4/6","無"]
[{"$nulls":10},"開始","終了","開始","終了","開始","終了","合計",null,"夏季","7/22","8/23","有"]
["勤務開始時刻",null,1,"校　長","青森　宗一郎",{"v":1,"d":"1班"},null,null,1,"月","12:00:00","12:45:00",{"$nulls":4},{"$f":"IF(K6=\"\",\"\",(L6-K6)+(N6-M6)+(P6-O6))","v":"00:45:00"},null,"冬季","12/24","1/14","有"]
["07:55:00",null,2,"教　頭","北海道　直道",{"v":2,"d":"2班"},null,null,1,"火","12:00:00","12:45:00",{"$nulls":4},{"$f":"IF(K7=\"\",\"\",(L7-K7)+(N7-M7)+(P7-O7))","v":"00:45:00"},null,"年度末","3/27","3/31","有"]
[null,null,3,"教諭","岩手　拓也",{"v":4,"d":"4班"},null,null,1,"水","12:00:00","12:45:00",{"$nulls":4},"00:45:00"]
["勤務終了時刻",null,4,"教諭","宮城　嘉浩",{"v":3,"d":"3班"},null,null,1,"木","12:00:00","12:45:00",{"$nulls":4},"00:45:00"]
[{"$f":"A7+TIMEVALUE(\"7:45\")+TIMEVALUE(\"0：45\")","v":"16:25:00"},null,5,"教諭","秋田　敬久",{"v":4,"d":"4班"},null,null,1,"金","12:00:00","12:45:00",{"$nulls":4},"00:45:00"]
[null,null,6,"教諭","山形　美栄子",{"v":3,"d":"3班"},null,null,1,"長期休業","12:00:00","12:45:00",{"$nulls":4},"00:45:00"]
["年（西暦）",null,7,"教諭","福島　雅雄",{"v":3,"d":"3班"},null,null,1,{"$nulls":7},""]
[2024,null,8,"教諭","茨城　和彦",{"v":1,"d":"1班"},null,null,2,"月","12:00:00","12:30:00","15:35:00","15:50:00",null,null,{"$f":"IF(K13=\"\",\"\",(L13-K13)+(N13-M13)+(P13-O13))","v":"00:45:00"}]
[null,null,9,"教諭","栃木　富一",{"v":4,"d":"4班"},null,null,2,"火","12:00:00","12:30:00","15:35:00","15:50:00",null,null,"00:45:00"]
[null,null,10,"教諭","群馬　一太",{"v":4,"d":"4班"},null,null,2,"水","12:00:00","12:30:00","15:15:00","15:30:00",null,null,"00:45:00"]
[null,null,11,"教諭","埼玉　元裕",{"v":3,"d":"3班"},null,null,2,"木","12:00:00","12:30:00","15:35:00","15:50:00",null,null,"00:45:00"]
[null,null,12,"教諭","千葉　俊人",{"v":3,"d":"3班"},null,null,2,"金","12:00:00","12:30:00","15:15:00","15:30:00",null,null,"00:45:00"]
[null,null,13,"教諭","神奈川　祐治",{"v":4,"d":"4班"},null,null,2,"長期休業","12:00:00","12:45:00",{"$nulls":4},"00:45:00"]
[null,null,14,"教諭","大阪　洋文",{"v":3,"d":"3班"},null,null,2,{"$nulls":7},""]
[null,null,15,"養護助教諭","東京　百合子",{"v":2,"d":"2班"},null,null,3,"月","13:10:00","13:25:00","15:35:00","16:05:00",null,null,{"$f":"IF(K20=\"\",\"\",(L20-K20)+(N20-M20)+(P20-O20))","v":"00:45:00"}]
[null,null,16,"総括事務主幹","沖縄　デニー",{"v":2,"d":"2班"},null,null,3,"火","13:10:00","13:25:00","15:35:00","16:05:00",null,null,"00:45:00"]
[null,null,17,{"$nulls":5},3,"水","12:50:00","13:05:00","15:15:00","15:45:00",null,null,"00:45:00"]
[null,null,18,{"$nulls":5},3,"木","13:10:00","13:25:00","15:35:00","16:05:00",null,null,"00:45:00"]
[null,null,19,{"$nulls":5},3,"金","12:50:00","13:05:00","15:15:00","15:45:00",null,null,"00:45:00"]
[null,null,20,{"$nulls":5},3,"長期休業","12:00:00","12:45:00",{"$nulls":4},"00:45:00"]
[null,null,21,{"$nulls":5},3,{"$nulls":7},""]
[null,null,22,{"$nulls":5},4,"月","13:25:00","13:40:00","15:35:00","16:05:00",null,null,{"$f":"IF(K27=\"\",\"\",(L27-K27)+(N27-M27)+(P27-O27))","v":"00:45:00"}]
[null,null,23,{"$nulls":5},4,"火","13:25:00","13:40:00","15:35:00","16:05:00",null,null,"00:45:00"]
[null,null,24,{"$nulls":5},4,"水","13:05:00","13:20:00","15:15:00","15:45:00",null,null,"00:45:00"]
[null,null,25,{"$nulls":5},4,"木","13:25:00","13:40:00","15:35:00","16:05:00",null,null,"00:45:00"]
[null,null,26,{"$nulls":5},4,"金","13:05:00","13:20:00","15:15:00","15:45:00",null,null,"00:45:00"]
[null,null,27,{"$nulls":5},4,"長期休業","12:00:00","12:45:00",{"$nulls":4},"00:45:00"]
[null,null,28,{"$nulls":5},4,{"$nulls":7},""]
[null,null,29]
[null,null,30]
[null,null,31]
[null,null,32]
[null,null,33]
[null,null,34]
[null,null,35]
[null,null,36]
[null,null,37]
[null,null,38]
[null,null,39]
[null,null,40]

{"sheet":"計算シート","index":2,"n_rows":112,"n_cols":27,"rows_kept":112,"merged":[[2,1,2,2],[2,4,2,5],[2,7,2,8],[2,10,2,11],[2,13,2,16],[3,4,3,5],[3,10,3,11],[6,1,6,8],[8,2,8,4],[8,6,8,7],[8,9,8,11],[9,1,10,1],[9,2,9,6],[9,7,10,8],[9,9,10,9],[9,10,10,11],[10,3,10,4],[10,5,10,6],[11,1,13,1],[11,9,13,9],[11,10,11,11],[12,10,12,11],[13,10,13,11],[14,0,16,0],[14,1,16,1],[14,9,16,9],[14,10,14,11],[15,10,15,11],[16,10,16,11]]}
[null,null,"年次休暇（時間休）計算",{"$nulls":4},{"$f":"基礎データシート!A13","v":2024},"年"]
[]
[null,"勤務時間",null,null,"休憩班区分",null,null,"曜日",null,null,"長期休業",null,null,"休憩時間"]
[null,"開始",{"$f":"基礎データシート!A7","v":"07:55:00"},null,{"$f":"INDEX(基礎データシート!D6:F45,MATCH(J9,基礎データシート!E6:E45,0),3)","v":{"v":1,"d":"1班"}},null,null,{"$f":"TEXT(C15,\"aaa\")","v":"木"},{"$f":"IF(K4=\"該当\",6,WEEKDAY(C15,2))","v":4},null,{"$f":"IF(COUNTIF(T21:T25,\"該当\")>=1,\"該当\",\"非該当\")","v":"非該当"},null,null,1,{"$f":"IF(INDIRECT(\"基礎データシート!k\" & (E4*7+I4-2))>0,INDIRECT(\"基礎データシート!k\" & (E4*7+I4-2)),\"\")","v":"12:00:00"},"～",{"$f":"IF(INDIRECT(\"基礎データシート!l\" & (E4*7+I4-2))>0,INDIRECT(\"基礎データシート!l\" & (E4*7+I4-2)),\"\")","v":"12:45:00"}]
[null,"終了",{"$f":"基礎データシート!A10","v":"16:25:00"},{"$nulls":10},2,{"$f":"IF(INDIRECT(\"基礎データシート!m\" & (E4*7+I4-2))>0,INDIRECT(\"基礎データシート!M\" & (E4*7+I4-2)),\"\")","v":""},"～",{"$f":"IF(INDIRECT(\"基礎データシート!n\" & (E4*7+I4-2))>0,INDIRECT(\"基礎データシート!n\" & (E4*7+I4-2)),\"\")","v":""}]
[{"$nulls":13},3,{"$f":"IF(INDIRECT(\"基礎データシート!o\" & (E4*7+I4-2))>0,INDIRECT(\"基礎データシート!o\" & (E4*7+I4-2)),\"\")","v":""},"～",{"$f":"IF(INDIRECT(\"基礎データシート!P\" & (E4*7+I4-2))>0,INDIRECT(\"基礎データシート!P\" & (E4*7+I4-2)),\"\")","v":""}]
[null,{"$f":"IF(OR(T89<>\"\",T90<>\"\",T91<>\"\",T92<>\"\"),\"(;・∀・)　\"&IF(T89<>\"\",T89,\"\")&IF(T90<>\"\",T90,\"\")&IF(T91<>\"\",T91,\"\")&IF(T92<>\"\",T92,\"\"),\"\")","v":""}]
[]
[null,"所属名",{"$f":"基礎データシート!A4","v":"青森市立青森小学校"},null,null,"職名",{"$f":"INDEX(基礎データシート!D6:F45,MATCH(J9,基礎データシート!E6:E45,0),1)","v":"教諭"},null,"氏名","茨城　和彦"]
[null,null,"期　　　　　　間",{"$nulls":4},"残日数\n・時間",null,"届出\n月日","備考"]
[null,null,"（月日）","（時間）",null,"（取得時間）"]
[null,"既取得分",null,null,"から",null,"日",27.5,"日"]
[{"$nulls":6},"時間",1,"時間"]
[{"$nulls":4},"まで",null,null,30,"分"]
[null,"今回\n取得分","2024-12-05","07:55:00","から",{"$f":"IF(C17=\"\",IF(T74=\"半休\",0.5,\"\"),IF(T74=\"半休\",0.5,IF(D15=\"\",C17-C15+1,\"\")))","v":0.5},"日",{"$f":"T82+T83","v":27},"日",null,{"$f":"IF(T74=\"半休\",\"\",IF(D17-D15>T64,\"休憩時間を除く\",\"\"))","v":""}]
[{"$nulls":5},{"$f":"IF(OR(D15=\"\",D17=\"\")=TRUE,\"\",IF(T74=\"半休\",\"\",HOUR(T65)))","v":""},"時間",{"$f":"T84","v":1},"時間",null,{"$f":"IF(T74=\"半休\",IF(D15=C4,\"午前\",\"午後\"),\"\")","v":"午前"}]
[null,null,"2024-12-05","12:00:00","まで",null,"分",{"$f":"T85","v":30},"分"]
[]
[{"$nulls":18},"取得日",{"$f":"C15","v":"2024-12-05"}]
[{"$nulls":20},"休業開始日","休業終了日","取得日は"]
[{"$nulls":18},"年始休業判定",{"$f":"IF(AND(W21=\"期間内\",基礎データシート!V6=\"有\"),\"該当\",\"非該当\")","v":"非該当"},{"$f":"DATEVALUE(基礎データシート!A13&\"/1/1\")","v":"2024-01-01"},{"$f":"DATEVALUE(基礎データシート!A13&\"/\"&基礎データシート!U6)","v":"2024-01-14"},{"$f":"IF(AND(U21<=T19,V21>=T19),\"期間内\",\"期間外\")","v":"期間外"}]
[{"$nulls":18},"年度始休業判定",{"$f":"IF(AND(W22=\"期間内\",基礎データシート!V4=\"有\"),\"該当\",\"非該当\")","v":"非該当"},{"$f":"DATEVALUE(基礎データシート!A13&\"/\"&基礎データシート!T4)","v":"2024-04-01"},{"$f":"DATEVALUE(基礎データシート!A13&\"/\"&基礎データシート!U4)","v":"2024-04-06"},{"$f":"IF(AND(U22<=T19,V22>=T19),\"期間内\",\"期間外\")","v":"期間外"}]
[{"$nulls":18},"夏季休業判定",{"$f":"IF(AND(W23=\"期間内\",基礎データシート!V5=\"有\"),\"該当\",\"非該当\")","v":"非該当"},{"$f":"DATEVALUE(基礎データシート!A13&\"/\"&基礎データシート!T5)","v":"2024-07-22"},{"$f":"DATEVALUE(基礎データシート!A13&\"/\"&基礎データシート!U5)","v":"2024-08-23"},{"$f":"IF(AND(U23<=T19,V23>=T19),\"期間内\",\"期間外\")","v":"期間外"}]
[{"$nulls":18},"冬季休業判定",{"$f":"IF(AND(W24=\"期間内\",基礎データシート!V6=\"有\"),\"該当\",\"非該当\")","v":"非該当"},{"$f":"DATEVALUE(基礎データシート!A13&\"/\"&基礎データシート!T6)","v":"2024-12-24"},{"$f":"DATEVALUE(基礎データシート!A13+1&\"/\"&基礎データシート!U6)","v":"2025-01-14"},{"$f":"IF(AND(U24<=T19,V24>=T19),\"期間内\",\"期間外\")","v":"期間外"}]
[{"$nulls":18},"年度末休業判定",{"$f":"IF(AND(W25=\"期間内\",基礎データシート!V7=\"有\"),\"該当\",\"非該当\")","v":"非該当"},{"$f":"DATEVALUE(基礎データシート!A13&\"/\"&基礎データシート!T7)","v":"2024-03-27"},{"$f":"DATEVALUE(基礎データシート!A13&\"/\"&基礎データシート!U7)","v":"2024-03-31"},{"$f":"IF(AND(U25<=T19,V25>=T19),\"期間内\",\"期間外\")","v":"期間外"}]
[]
[]
[{"$nulls":19},"開始","終了","経過時間"]
[{"$nulls":18},"勤務時間",{"$f":"基礎データシート!A7","v":"07:55:00"},{"$f":"基礎データシート!A10","v":"16:25:00"}]
[{"$nulls":18},"勤務開始～休憩①",null,null,{"$f":"IF(T31<>\"\",T31-T29,0)","v":"04:05:00"},null,"開始時刻","終了時刻","判定","備考欄表記用"]
[{"$nulls":18},"休憩①",{"$f":"O4","v":"12:00:00"},{"$f":"Q4","v":"12:45:00"},{"$f":"IF(T31<>\"\",U31-T31,0)","v":"00:45:00"},"休暇時間内",{"$f":"IF(AND(T29>$T$52,T29<$T$52),1,0)","v":0},{"$f":"IF(AND(U31>$T$52,U31<$U$52),1,0)","v":0},{"$f":"SUM(X31:Y31)","v":0},{"$f":"IF(Z31>0,TEXT(T31,\"hh:mm\")&\"～\"&TEXT(U31,\"hh:mm\"),\"\")","v":""}]
[{"$nulls":18},"休憩①～②",null,null,{"$f":"IF(T33<>\"\",T33-U31,0)","v":"00:00:00"},"に休憩が時"]
[{"$nulls":18},"休憩②",{"$f":"O5","v":""},{"$f":"Q5","v":""},{"$f":"IF(T33<>\"\",U33-T33,0)","v":"00:00:00"},"間が含まれ",{"$f":"IF(AND(T30>$T$52,T30<$T$52),1,0)","v":0},{"$f":"IF(AND(U33>$T$52,U33<$U$52),1,0)","v":0},{"$f":"SUM(X33:Y33)","v":0},{"$f":"IF(AND(Z31>0,Z33>0),\"、\",\"\")&IF(Z33>0,TEXT(T33,\"hh:mm\")&\"～\"&TEXT(U33,\"hh:mm\"),\"\")","v":""}]
[{"$nulls":18},"休憩②～③",null,null,{"$f":"IF(T35<>\"\",T35-U33,0)","v":"00:00:00"},"ているかの"]
[{"$nulls":18},"休憩③",{"$f":"O6","v":""},{"$f":"Q6","v":""},{"$f":"IF(T35<>\"\",U35-T35,0)","v":"00:00:00"},"判定",{"$f":"IF(AND(T31>$T$52,T31<$T$52),1,0)","v":0},{"$f":"IF(AND(U35>$T$52,U35<$U$52),1,0)","v":0},{"$f":"SUM(X35:Y35)","v":0},{"$f":"IF(AND(Z33>0,Z35>0),\"、\",\"\")&IF(Z35>0,TEXT(T35,\"hh:mm\")&\"～\"&TEXT(U35,\"hh:mm\"),\"\")","v":""}]
[{"$nulls":18},"休憩③～勤務終了",null,null,{"$f":"IF(U35<>\"\",U29-U35,IF(U33<>\"\",U29-U33,IF(U31<>\"\",U29-U31,0)))","v":"03:40:00"}]
[{"$nulls":18},"休憩時間合計",{"$f":"(U31-T31)+IF(O5=\"\",0,(U33-T33))+IF(O6=\"\",0,(U35-T35))","v":"00:45:00"},"経過時間合計",{"$f":"SUM(V30:V36)","v":"08:30:00"}]
[]
[]
[{"$nulls":19},"開始","終了","経過時間"]
[{"$nulls":18},"勤務時間",{"$f":"T29","v":"07:55:00"},{"$f":"U29","v":"16:25:00"}]
[{"$nulls":18},"休憩③～勤務終了",null,null,{"$f":"IF(U43<>\"\",U41-U43,0)","v":"03:40:00"},null,"開始時刻","終了時刻","判定","備考欄表記用"]
[{"$nulls":18},"休憩③",{"$f":"IF(AND(O6<>\"\",O5<>\"\",O4<>\"\"),O6,IF(AND(O5<>\"\",O4<>\"\"),O5,IF(O4<>\"\",O4,\"\")))","v":"12:00:00"},{"$f":"IF(AND(Q6<>\"\",Q5<>\"\",Q4<>\"\"),Q6,IF(AND(Q5<>\"\",Q4<>\"\"),Q5,IF(Q4<>\"\",Q4,\"\")))","v":"12:45:00"},{"$f":"IF(U43<>\"\",U43-T43,0)","v":"00:45:00"},"休暇時間内",{"$f":"IF(AND(T41>$T$52,T41<$T$52),1,0)","v":0},{"$f":"IF(AND(U43>$T$52,U43<$U$52),1,0)","v":0},{"$f":"SUM(X43:Y43)","v":0},{"$f":"IF(Z43>0,TEXT(T43,\"hh:mm\")&\"～\"&TEXT(U43,\"hh:mm\"),\"\")","v":""}]
[{"$nulls":18},"休憩②～③",null,null,{"$f":"IF(U45<>\"\",T43-U45,0)","v":"00:00:00"},"に休憩が時"]
[{"$nulls":18},"休憩②",{"$f":"IF(AND(O6<>\"\",O5<>\"\",O4<>\"\"),O5,IF(AND(O5<>\"\",O4<>\"\"),O4,\"\"))","v":""},{"$f":"IF(AND(Q6<>\"\",Q5<>\"\",Q4<>\"\"),Q5,IF(AND(Q5<>\"\",Q4<>\"\"),Q4,\"\"))","v":""},{"$f":"IF(U45<>\"\",U45-T45,0)","v":"00:00:00"},"間が含まれ",{"$f":"IF(AND(T42>$T$52,T42<$T$52),1,0)","v":0},{"$f":"IF(AND(U45>$T$52,U45<$U$52),1,0)","v":0},{"$f":"SUM(X45:Y45)","v":0},{"$f":"IF(AND(Z43>0,Z45>0),\"、\",\"\")&IF(Z45>0,TEXT(T45,\"hh:mm\")&\"～\"&TEXT(U45,\"hh:mm\"),\"\")","v":""}]
[{"$nulls":18},"休憩①～②",null,null,{"$f":"IF(U47<>\"\",T45-U47,0)","v":"00:00:00"},"ているかの"]
[{"$nulls":18},"休憩①",{"$f":"IF(AND(O6<>\"\",O5<>\"\",O4<>\"\"),O4,\"\")","v":""},{"$f":"IF(AND(Q6<>\"\",Q5<>\"\",Q4<>\"\"),Q4,\"\")","v":""},{"$f":"IF(T47<>\"\",U47-T47,0)","v":"00:00:00"},"判定",{"$f":"IF(AND(T43>$T$52,T43<$T$52),1,0)","v":0},{"$f":"IF(AND(U47>$T$52,U47<$U$52),1,0)","v":0},{"$f":"SUM(X47:Y47)","v":0},{"$f":"IF(AND(Z45>0,Z47>0),\"、\",\"\")&IF(Z47>0,TEXT(T47,\"hh:mm\")&\"～\"&TEXT(U47,\"hh:mm\"),\"\")","v":""}]
[{"$nulls":18},"勤務開始～休憩①",null,null,{"$f":"IF(U47<>\"\",T47-T41,IF(U45<>\"\",T45-T41,IF(U43<>\"\",T43-T41,0)))","v":"04:05:00"}]
[{"$nulls":18},"休憩時間合計",{"$f":"(U43-T43)+IF(O5=\"\",0,(U45-T45))+IF(O6=\"\",0,(U47-T47))","v":"00:45:00"},"経過時間合計",{"$f":"SUM(V42:V48)","v":"08:30:00"}]
[]
[{"$nulls":19},"開始","終了"]
[{"$nulls":18},"休暇取得時刻",{"$f":"D15","v":"07:55:00"},{"$f":"D17","v":"12:00:00"}]
[{"$nulls":18},"勤務開始～休憩①",{"$f":"IF(T52<=T31,T52,0)","v":"07:55:00"},{"$f":"IF(T53=0,0,IF(U52<=T31,U52,T31))","v":"12:00:00"}]
[{"$nulls":18},"休憩①～②",{"$f":"IF(AND(T52<=U31,U52>U31),U31,IF(AND(T52>=U31,OR(T33=0,T52<=T33)),T52,0))","v":"00:00:00"},{"$f":"IF(T54=0,0,IF(U52<=T33,U52,IF(T33=0,U52,IF(U52>=T33,T33))))","v":"00:00:00"}]
[{"$nulls":18},"休憩②～③",{"$f":"IF(U33=0,0,IF(AND(T52<=U33,U52>U33),U33,IF(AND(T52>=U33,OR(T35=0,T52<=T35)),T52,0)))","v":"00:00:00"},{"$f":"IF(T55=0,0,IF(U52<=T35,U52,IF(T35=0,U52,IF(U52>=T35,T35))))","v":"00:00:00"}]
[{"$nulls":18},"休憩③～勤務終了",{"$f":"IF(U35=0,0,IF(AND(U35<=U52,T52<=U35),U35,IF(U35<T52,T52,0)))","v":"00:00:00"},{"$f":"IF(T56=0,0,U52)","v":"00:00:00"}]
[]
[]
[{"$nulls":18},"休暇時間"]
[{"$nulls":18},"勤務開始～休憩①",{"$f":"U53-T53","v":"04:05:00"}]
[{"$nulls":18},"休憩①～②",{"$f":"U54-T54","v":"00:00:00"}]
[{"$nulls":18},"休憩②～③",{"$f":"U55-T55","v":"00:00:00"}]
[{"$nulls":18},"休憩③～勤務終了",{"$f":"U56-T56","v":"00:00:00"}]
[{"$nulls":18},"合計時間",{"$f":"SUM(T60:T63)","v":"04:05:00"}]
[{"$nulls":18},"休暇換算時間",{"$f":"CEILING(T64,\"1:00\")","v":"05:00:00"}]
[]
[]
[{"$nulls":18},"休憩分割",{"$f":"IF(O5=\"\",FALSE,TRUE)","v":false}]
[{"$nulls":18},"（休憩①開始-勤務開始）-\n（勤務終了-休憩①終了）",{"$f":"(T31-T29)-(U29-U31)","v":"00:25:00"}]
[{"$nulls":18},"（勤務終了-休憩①終了）-（休憩①開始-勤務開始）",{"$f":"(U29-U31)-(T31-T29)","v":-0.017361111111111105}]
[{"$nulls":18},"上記でプラスの方",{"$f":"IF(T69>=0,T69,T70)","v":"00:25:00"}]
[{"$nulls":18},"休憩前後の差",{"$f":"IF(T71<=TIMEVALUE(\"1:00\"),TRUE,FALSE)","v":true}]
[{"$nulls":18},"半休取得の可否",{"$f":"IF(T68=TRUE,\"不可\",IF(T72=TRUE,\"可\",\"不可\"))","v":"可"}]
[{"$nulls":18},"半休判定",{"$f":"IF(T73=\"可\",IF(T29=T52,IF(AND(U52>=T31,U52<=U31),\"半休\",\"時休\"),IF(U29=U52,IF(AND(T52>=T31,T52<=U31),\"半休\",\"時休\"),\"時休\")),\"時休\")","v":"半休"}]
[]
[]
[{"$nulls":18},"残日数"]
[{"$nulls":18},"取得前日数",{"$f":"INT(H12)","v":27}]
[{"$nulls":18},"取得前半日数",{"$f":"MOD(H12,1)","v":0.5}]
[{"$nulls":18},"取得前時間数",{"$f":"H13","v":1}]
[{"$nulls":18},"取得前分数",{"$f":"H14","v":30}]
[{"$nulls":18},"取得後日数",{"$f":"IF(T74=\"半休\",INT(H12-0.5),INT((T78*7.75+T80+T81/60-HOUR(T65))/7.75)-IF(F15<>\"\",VALUE(F15),0))","v":27}]
[{"$nulls":18},"取得後半日数",{"$f":"IF(T74=\"半休\",MOD(計算シート!H12-0.5,1),T79)","v":0}]
[{"$nulls":18},"取得後時間数",{"$f":"IF(T74=\"半休\",T80,IF(T80-HOUR(T65)>=0,T80-HOUR(T65),INT(T80+T81/60+7.75*(T78-T82)-HOUR(T65))))","v":1}]
[{"$nulls":18},"取得後分数",{"$f":"IF(T74=\"半休\",H14,IF(T80-HOUR(T65)>=0,T81,MOD(T81+45*(T78-T82),60)))","v":30}]
[]
[]
[{"$nulls":18},"エラー表示"]
[{"$nulls":18},"勤務時間外取得",{"$f":"IF(OR($D$15=\"\",$D$17=\"\",$D$15<$C$4,$D$17>$C$5),\"時間が未入力 又は 勤務時間外です。\",\"\")","v":""}]
[{"$nulls":18},"年休取得時の時間記入",{"$f":"IF(AND($D$15=$C$4,$D$17=$C$5),\"年休の場合は時間欄の入力は不要です。\",\"\")","v":""}]
[{"$nulls":18},"年休と時休の混在",{"$f":"IF(C15<>C17,IF(OR(D15<>\"\",D17<>\"\"),\"時休と年休と半休は分けて記入してください。\",\"\"),\"\")","v":""}]
[{"$nulls":18},"残日数不足",{"$f":"IF(ISERR(T82)=TRUE,\"\",IF(T82<0,\"残日数不足です。\",\"\"))","v":""}]
[{"$nulls":20},"比較"]
[{"$nulls":18},"勤務開始",{"$f":"T29","v":"07:55:00"}]
[{"$nulls":18},"時休1時間",{"$f":"IF(V30>=TIMEVALUE(\"1:00\"),TIMEVALUE(\"1:00\")+T29,IF(U95=TRUE,V31,0)+IF(V95=TRUE,V33,0)+IF(W95=TRUE,V35,0)+TIMEVALUE(\"1:00\")+T29)","v":"08:55:00"},{"$f":"IF(TIMEVALUE(\"1:00\")>=V30,TRUE,FALSE)","v":false},{"$f":"IF((TIMEVALUE(\"1:00\")+IF(U95=TRUE,V31,0))>=(V30+V31+V32),TRUE,FALSE)","v":false},{"$f":"IF((TIMEVALUE(\"1:00\")+IF(U95=TRUE,V31,0)+IF(V95=TRUE,V33,0))>=(V30+V31+V32+V33+V34),TRUE,FALSE)","v":false}]
[{"$nulls":18},"時休2時間",{"$f":"IF(V30>=TIMEVALUE(\"2:00\"),TIMEVALUE(\"2:00\")+T29,IF(U96=TRUE,V31,0)+IF(V96=TRUE,V33,0)+IF(W96=TRUE,V35,0)+TIMEVALUE(\"2:00\")+T29)","v":"09:55:00"},{"$f":"IF(TIMEVALUE(\"2:00\")>=V30,TRUE,FALSE)","v":false},{"$f":"IF((TIMEVALUE(\"2:00\")+IF(U96=TRUE,V31,0))>=(V30+V31+V32),TRUE,FALSE)","v":false},{"$f":"IF((TIMEVALUE(\"2:00\")+IF(U96=TRUE,V31,0)+IF(V96=TRUE,V33,0))>=(V30+V31+V32+V33+V34),TRUE,FALSE)","v":false}]
[{"$nulls":18},"時休3時間",{"$f":"IF(V30>=TIMEVALUE(\"3:00\"),TIMEVALUE(\"3:00\")+T29,IF(U97=TRUE,V31,0)+IF(V97=TRUE,V33,0)+IF(W97=TRUE,V35,0)+TIMEVALUE(\"3:00\")+T29)","v":"10:55:00"},{"$f":"IF(TIMEVALUE(\"3:00\")>=V30,TRUE,FALSE)","v":false},{"$f":"IF((TIMEVALUE(\"3:00\")+IF(U97=TRUE,V31,0))>=(V30+V31+V32),TRUE,FALSE)","v":false},{"$f":"IF((TIMEVALUE(\"3:00\")+IF(U97=TRUE,V31,0)+IF(V97=TRUE,V33,0))>=(V30+V31+V32+V33+V34),TRUE,FALSE)","v":false}]
[{"$nulls":18},"時休4時間",{"$f":"IF(V30>=TIMEVALUE(\"4:00\"),TIMEVALUE(\"4:00\")+T29,IF(U98=TRUE,V31,0)+IF(V98=TRUE,V33,0)+IF(W98=TRUE,V35,0)+TIMEVALUE(\"4:00\")+T29)","v":"11:55:00"},{"$f":"IF(TIMEVALUE(\"4:00\")>=V30,TRUE,FALSE)","v":false},{"$f":"IF((TIMEVALUE(\"4:00\")+IF(U98=TRUE,V31,0))>=(V30+V31+V32),TRUE,FALSE)","v":false},{"$f":"IF((TIMEVALUE(\"4:00\")+IF(U98=TRUE,V31,0)+IF(V98=TRUE,V33,0))>=(V30+V31+V32+V33+V34),TRUE,FALSE)","v":false}]
[{"$nulls":18},"時休5時間",{"$f":"IF(V30>=TIMEVALUE(\"5:00\"),TIMEVALUE(\"5:00\")+T29,IF(U99=TRUE,V31,0)+IF(V99=TRUE,V33,0)+IF(W99=TRUE,V35,0)+TIMEVALUE(\"5:00\")+T29)","v":"13:40:00"},{"$f":"IF(TIMEVALUE(\"5:00\")>=V30,TRUE,FALSE)","v":true},{"$f":"IF((TIMEVALUE(\"5:00\")+IF(U99=TRUE,V31,0))>=(V30+V31+V32),TRUE,FALSE)","v":true},{"$f":"IF((TIMEVALUE(\"5:00\")+IF(U99=TRUE,V31,0)+IF(V99=TRUE,V33,0))>=(V30+V31+V32+V33+V34),TRUE,FALSE)","v":true}]
[{"$nulls":18},"時休6時間",{"$f":"IF(V30>=TIMEVALUE(\"6:00\"),TIMEVALUE(\"6:00\")+T29,IF(U100=TRUE,V31,0)+IF(V100=TRUE,V33,0)+IF(W100=TRUE,V35,0)+TIMEVALUE(\"6:00\")+T29)","v":"14:40:00"},{"$f":"IF(TIMEVALUE(\"6:00\")>=V30,TRUE,FALSE)","v":true},{"$f":"IF((TIMEVALUE(\"6:00\")+IF(U100=TRUE,V31,0))>=(V30+V31+V32),TRUE,FALSE)","v":true},{"$f":"IF((TIMEVALUE(\"6:00\")+IF(U100=TRUE,V31,0)+IF(V100=TRUE,V33,0))>=(V30+V31+V32+V33+V34),TRUE,FALSE)","v":true}]
[{"$nulls":18},"時休7時間",{"$f":"IF(V30>=TIMEVALUE(\"7:00\"),TIMEVALUE(\"7:00\")+T29,IF(U101=TRUE,V31,0)+IF(V101=TRUE,V33,0)+IF(W101=TRUE,V35,0)+TIMEVALUE(\"7:00\")+T29)","v":"15:40:00"},{"$f":"IF(TIMEVALUE(\"7:00\")>=V30,TRUE,FALSE)","v":true},{"$f":"IF((TIMEVALUE(\"7:00\")+IF(U101=TRUE,V31,0))>=(V30+V31+V32),TRUE,FALSE)","v":true},{"$f":"IF((TIMEVALUE(\"7:00\")+IF(U101=TRUE,V31,0)+IF(V101=TRUE,V33,0))>=(V30+V31+V32+V33+V34),TRUE,FALSE)","v":true}]
[]
[]
[]
[{"$nulls":18},"勤務終了",{"$f":"U29","v":"16:25:00"}]
[{"$nulls":18},"時休1時間",{"$f":"IF(V42>=TIMEVALUE(\"1:00\"),U41-TIMEVALUE(\"1:00\"),U41-IF(U106=TRUE,V43,0)-IF(V106=TRUE,V45,0)-IF(W106=TRUE,V47,0)-TIMEVALUE(\"1:00\"))","v":"15:25:00"},{"$f":"IF(TIMEVALUE(\"1:00\")>=V42,TRUE,FALSE)","v":false},{"$f":"IF((TIMEVALUE(\"1:00\")+IF(U106=TRUE,V43,0))>=(V42+V43+V44),TRUE,FALSE)","v":false},{"$f":"IF((TIMEVALUE(\"1:00\")+IF(U106=TRUE,V43,0)+IF(V106=TRUE,V45,0))>=(V42+V43+V44+V45+V46+V47),TRUE,FALSE)","v":false}]
[{"$nulls":18},"時休2時間",{"$f":"IF(V42>=TIMEVALUE(\"2:00\"),U41-TIMEVALUE(\"2:00\"),U41-IF(U107=TRUE,V43,0)-IF(V107=TRUE,V45,0)-IF(W107=TRUE,V47,0)-TIMEVALUE(\"2:00\"))","v":"14:25:00"},{"$f":"IF(TIMEVALUE(\"2:00\")>=V42,TRUE,FALSE)","v":false},{"$f":"IF((TIMEVALUE(\"2:00\")+IF(U107=TRUE,V43,0))>=(V42+V43+V44),TRUE,FALSE)","v":false},{"$f":"IF((TIMEVALUE(\"2:00\")+IF(U107=TRUE,V43,0)+IF(V107=TRUE,V45,0))>=(V42+V43+V44+V45+V46+V47),TRUE,FALSE)","v":false}]
[{"$nulls":18},"時休3時間",{"$f":"IF(V42>=TIMEVALUE(\"3:00\"),U41-TIMEVALUE(\"3:00\"),U41-IF(U108=TRUE,V43,0)-IF(V108=TRUE,V45,0)-IF(W108=TRUE,V47,0)-TIMEVALUE(\"3:00\"))","v":"13:25:00"},{"$f":"IF(TIMEVALUE(\"3:00\")>=V42,TRUE,FALSE)","v":false},{"$f":"IF((TIMEVALUE(\"3:00\")+IF(U108=TRUE,V43,0))>=(V42+V43+V44),TRUE,FALSE)","v":false},{"$f":"IF((TIMEVALUE(\"3:00\")+IF(U108=TRUE,V43,0)+IF(V108=TRUE,V45,0))>=(V42+V43+V44+V45+V46+V47),TRUE,FALSE)","v":false}]
[{"$nulls":18},"時休4時間",{"$f":"IF(V42>=TIMEVALUE(\"4:00\"),U41-TIMEVALUE(\"4:00\"),U41-IF(U109=TRUE,V43,0)-IF(V109=TRUE,V45,0)-IF(W109=TRUE,V47,0)-TIMEVALUE(\"4:00\"))","v":"11:40:00"},{"$f":"IF(TIMEVALUE(\"4:00\")>=V42,TRUE,FALSE)","v":true},{"$f":"IF((TIMEVALUE(\"4:00\")+IF(U109=TRUE,V43,0))>=(V42+V43+V44),TRUE,FALSE)","v":true},{"$f":"IF((TIMEVALUE(\"4:00\")+IF(U109=TRUE,V43,0)+IF(V109=TRUE,V45,0))>=(V42+V43+V44+V45+V46+V47),TRUE,FALSE)","v":true}]
[{"$nulls":18},"時休5時間",{"$f":"IF(V42>=TIMEVALUE(\"5:00\"),U41-TIMEVALUE(\"5:00\"),U41-IF(U110=TRUE,V43,0)-IF(V110=TRUE,V45,0)-IF(W110=TRUE,V47,0)-TIMEVALUE(\"5:00\"))","v":"10:40:00"},{"$f":"IF(TIMEVALUE(\"5:00\")>=V42,TRUE,FALSE)","v":true},{"$f":"IF((TIMEVALUE(\"5:00\")+IF(U110=TRUE,V43,0))>=(V42+V43+V44),TRUE,FALSE)","v":true},{"$f":"IF((TIMEVALUE(\"5:00\")+IF(U110=TRUE,V43,0)+IF(V110=TRUE,V45,0))>=(V42+V43+V44+V45+V46+V47),TRUE,FALSE)","v":true}]
[{"$nulls":18},"時休6時間",{"$f":"IF(V42>=TIMEVALUE(\"6:00\"),U41-TIMEVALUE(\"6:00\"),U41-IF(U111=TRUE,V43,0)-IF(V111=TRUE,V45,0)-IF(W111=TRUE,V47,0)-TIMEVALUE(\"6:00\"))","v":"09:40:00"},{"$f":"IF(TIMEVALUE(\"6:00\")>=V42,TRUE,FALSE)","v":true},{"$f":"IF((TIMEVALUE(\"6:00\")+IF(U111=TRUE,V43,0))>=(V42+V43+V44),TRUE,FALSE)","v":true},{"$f":"IF((TIMEVALUE(\"6:00\")+IF(U111=TRUE,V43,0)+IF(V111=TRUE,V45,0))>=(V42+V43+V44+V45+V46+V47),TRUE,FALSE)","v":true}]
[{"$nulls":18},"時休7時間",{"$f":"IF(V42>=TIMEVALUE(\"7:00\"),U41-TIMEVALUE(\"7:00\"),U41-IF(U112=TRUE,V43,0)-IF(V112=TRUE,V45,0)-IF(W112=TRUE,V47,0)-TIMEVALUE(\"7:00\"))","v":"08:40:00"},{"$f":"IF(TIMEVALUE(\"7:00\")>=V42,TRUE,FALSE)","v":true},{"$f":"IF((TIMEVALUE(\"7:00\")+IF(U112=TRUE,V43,0))>=(V42+V43+V44),TRUE,FALSE)","v":true},{"$f":"IF((TIMEVALUE(\"7:00\")+IF(U112=TRUE,V43,0)+IF(V112=TRUE,V45,0))>=(V42+V43+V44+V45+V46+V47),TRUE,FALSE)","v":true}]

{"sheet":"年休累計シート","index":3,"n_rows":203,"n_cols":30,"rows_kept":203,"merged":[[1,1,1,4],[1,5,1,10],[1,11,1,16],[2,1,2,4],[5,28,5,29],[6,26,6,28]]}
[]
[null,"取得日数（時間数）",{"$nulls":3},"累計日数（時間数）",{"$nulls":5},"残日数",{"$nulls":5},"１日半日取得分の累計","時間取得分の累計","時間取得分の日数","時間取得分の時間数","残日数","残時間数","残分数","検算"]
[{"$nulls":11},40,"日",0,"時間",0,"分"]
[1,null,"日",3,"時間",{"$f":"IF(AND(ISBLANK(B4)=TRUE,ISBLANK(D4)=TRUE),\"\",R4+T4)","v":0},"日",{"$f":"IF(AND(ISBLANK(B4)=TRUE,ISBLANK(D4)=TRUE),\"\",INT(U4))","v":3},"時間",{"$f":"IF(AND(ISBLANK(B4)=TRUE,ISBLANK(D4)=TRUE),\"\",MOD(U4,1)*60)","v":0},"分",{"$f":"IF(AND(ISBLANK(B4)=TRUE,ISBLANK(D4)=TRUE),\"\",V4)","v":39},"日",{"$f":"IF(AND(ISBLANK(B4)=TRUE,ISBLANK(D4)=TRUE),\"\",W4)","v":4},"時間",{"$f":"IF(AND(ISBLANK(B4)=TRUE,ISBLANK(D4)=TRUE),\"\",X4)","v":45},"分",{"$f":"R3+B4","v":0},{"$f":"D3+D4","v":3},{"$f":"INT(S4/7.75)","v":{"v":0,"d":"0.00"}},{"$f":"IF(H3+J3/60+D4<7.75,H3+J3/60+D4,MOD(H3+J3/60+D4,7.75))","v":{"v":3,"d":"3.00"}},{"$f":"IF(N3-D4>=0,L3-B4,L3-B4-1)","v":{"v":39,"d":"39.00"}},{"$f":"IF(N3+P3/60-D4>=0,INT(N3+P3/60-D4),INT(N3+P3/60+7.75-D4))","v":{"v":4,"d":"4.00"}},{"$f":"IF(N3-D4>=0,MOD(N3+P3/60-D4,1)*60,MOD(N3+7.75+P3/60-D4,1)*60)","v":45},{"$f":"F4+L4+(H4+J4/60+N4+P4/60)/7.75","v":40},null,"累計（小数計算）"]
[2,null,"日",2,"時間",0,"日",{"$f":"IF(AND(ISBLANK(B5)=TRUE,ISBLANK(D5)=TRUE),\"\",INT(U5))","v":5},"時間",{"$f":"IF(AND(ISBLANK(B5)=TRUE,ISBLANK(D5)=TRUE),\"\",MOD(U5,1)*60)","v":0},"分",{"$f":"IF(AND(ISBLANK(B5)=TRUE,ISBLANK(D5)=TRUE),\"\",V5)","v":39},"日",{"$f":"IF(AND(ISBLANK(B5)=TRUE,ISBLANK(D5)=TRUE),\"\",W5)","v":2},"時間",{"$f":"IF(AND(ISBLANK(B5)=TRUE,ISBLANK(D5)=TRUE),\"\",X5)","v":45},"分",{"$f":"R4+B5","v":0},{"$f":"S4+D5","v":5},{"v":0,"d":"0.00"},{"$f":"IF(H4+J4/60+D5<7.75,H4+J4/60+D5,MOD(H4+J4/60+D5,7.75))","v":{"v":5,"d":"5.00"}},{"$f":"IF(N4-D5>=0,L4-B5,L4-B5-1)","v":{"v":39,"d":"39.00"}},{"$f":"IF(N4+P4/60-D5>=0,INT(N4+P4/60-D5),INT(N4+P4/60+7.75-D5))","v":{"v":2,"d":"2.00"}},{"$f":"IF(N4-D5>=0,MOD(N4+P4/60-D5,1)*60,MOD(N4+7.75+P4/60-D5,1)*60)","v":45},{"$f":"F5+L5+(H5+J5/60+N5+P5/60)/7.75","v":40},null,{"$f":"SUM(B4:B203)","v":0},"日",{"$f":"SUM(D4:D203)","v":5},"時間"]
[3,null,"日",null,"時間","","日","","時間","","分","","日","","時間","","分",0,{"$f":"S5+D6","v":5},{"v":0,"d":"0.00"},{"v":5,"d":"5.00"},{"v":39,"d":"39.00"},{"$f":"IF(N5+P5/60-D6>=0,INT(N5+P5/60-D6),INT(N5+P5/60+7.75-D6))","v":{"v":2,"d":"2.00"}},45,{"$error":"#VALUE!"},{"$nulls":3},{"$f":"AC5/7.75","v":{"v":0.6451612903225806,"d":"( 0.645 日)"}}]
[4,null,"日",null,"時間","","日","","時間","","分","","日","","時間","","分",0,5,{"v":0,"d":"0.00"},{"$error":"#VALUE!"},{"$error":"#VALUE!"},{"$error":"#VALUE!"},{"$error":"#VALUE!"},{"$error":"#VALUE!"},null,{"$f":"AA5+AC6","v":{"v":0.6451612903225806,"d":"0.645"}},null,null,"日"]
[5,null,"日",null,"時間","","日","","時間","","分","","日","","時間","","分",0,5,{"v":0,"d":"0.00"},{"$error":"#VALUE!"},{"$error":"#VALUE!"},{"$error":"#VALUE!"},{"$error":"#VALUE!"},{"$error":"#VALUE!"},null,"（↑「人事行政の運営の状況に係る調査」等でご活用ください。）"]
[6,null,"日",null,"時間","","日","","時間","","分","","日","","時間","","分",0,5,{"v":0,"d":"0.00"},{"$error":"#VALUE!"},{"$error":"#VALUE!"},{"$error":"#VALUE!"},{"$error":"#VALUE!"},{"$error":"#VALUE!"}]
[7,null,"日",null,"時間","","日","","時間","","分","","日","","時間","","分",0,5,{"v":0,"d":"0.00"},{"$error":"#VALUE!"},{"$error":"#VALUE!"},{"$error":"#VALUE!"},{"$error":"#VALUE!"},{"$error":"#VALUE!"}]
[8,null,"日",null,"時間","","日","","時間","","分","","日","","時間","","分",0,5,{"v":0,"d":"0.00"},{"$error":"#VALUE!"},{"$error":"#VALUE!"},{"$error":"#VALUE!"},{"$error":"#VALUE!"},{"$error":"#VALUE!"}]
[9,null,"日",null,"時間",{"$f":"IF(AND(ISBLANK(B12)=TRUE,ISBLANK(D12)=TRUE),\"\",R12+T12)","v":""},"日",{"$f":"IF(AND(ISBLANK(B12)=TRUE,ISBLANK(D12)=TRUE),\"\",INT(U12))","v":""},"時間",{"$f":"IF(AND(ISBLANK(B12)=TRUE,ISBLANK(D12)=TRUE),\"\",MOD(U12,1)*60)","v":""},"分",{"$f":"IF(AND(ISBLANK(B12)=TRUE,ISBLANK(D12)=TRUE),\"\",V12)","v":""},"日",{"$f":"IF(AND(ISBLANK(B12)=TRUE,ISBLANK(D12)=TRUE),\"\",W12)","v":""},"時間",{"$f":"IF(AND(ISBLANK(B12)=TRUE,ISBLANK(D12)=TRUE),\"\",X12)","v":""},"分",{"$f":"R11+B12","v":0},5,{"v":0,"d":"0.00"},{"$error":"#VALUE!"},{"$f":"IF(N11-D12>=0,L11-B12,L11-B12-1)","v":{"$error":"#VALUE!"}},{"$error":"#VALUE!"},{"$error":"#VALUE!"},{"$error":"#VALUE!"}]
[10,null,"日",null,"時間",{"$f":"IF(AND(ISBLANK(B13)=TRUE,ISBLANK(D13)=TRUE),\"\",R13+T13)","v":""},"日",{"$f":"IF(AND(ISBLANK(B13)=TRUE,ISBLANK(D13)=TRUE),\"\",INT(U13))","v":""},"時間",{"$f":"IF(AND(ISBLANK(B13)=TRUE,ISBLANK(D13)=TRUE),\"\",MOD(U13,1)*60)","v":""},"分",{"$f":"IF(AND(ISBLANK(B13)=TRUE,ISBLANK(D13)=TRUE),\"\",V13)","v":""},"日",{"$f":"IF(AND(ISBLANK(B13)=TRUE,ISBLANK(D13)=TRUE),\"\",W13)","v":""},"時間",{"$f":"IF(AND(ISBLANK(B13)=TRUE,ISBLANK(D13)=TRUE),\"\",X13)","v":""},"分",{"$f":"R12+B13","v":0},5,{"v":0,"d":"0.00"},{"$error":"#VALUE!"},{"$f":"IF(N12-D13>=0,L12-B13,L12-B13-1)","v":{"$error":"#VALUE!"}},{"$error":"#VALUE!"},{"$error":"#VALUE!"},{"$error":"#VALUE!"}]
[11,null,"日",null,"時間","","日","","時間","","分","","日","","時間","","分",0,5,{"v":0,"d":"0.00"},{"$error":"#VALUE!"},{"$error":"#VALUE!"},{"$error":"#VALUE!"},{"$error":"#VALUE!"},{"$error":"#VALUE!"}]
[12,null,"日",null,"時間","","日","","時間","","分","","日","","時間","","分",0,5,{"v":0,"d":"0.00"},{"$error":"#VALUE!"},{"$error":"#VALUE!"},{"$error":"#VALUE!"},{"$error":"#VALUE!"},{"$error":"#VALUE!"}]
[13,null,"日",null,"時間","","日","","時間","","分","","日","","時間","","分",0,5,{"v":0,"d":"0.00"},{"$error":"#VALUE!"},{"$error":"#VALUE!"},{"$error":"#VALUE!"},{"$error":"#VALUE!"},{"$error":"#VALUE!"}]
[14,null,"日",null,"時間","","日","","時間","","分","","日","","時間","","分",0,5,{"v":0,"d":"0.00"},{"$error":"#VALUE!"},{"$error":"#VALUE!"},{"$error":"#VALUE!"},{"$error":"#VALUE!"},{"$error":"#VALUE!"}]
[15,null,"日",null,"時間","","日","","時間","","分","","日","","時間","","分",0,5,{"v":0,"d":"0.00"},{"$error":"#VALUE!"},{"$error":"#VALUE!"},{"$error":"#VALUE!"},{"$error":"#VALUE!"},{"$error":"#VALUE!"}]
[16,null,"日",null,"時間","","日","","時間","","分","","日","","時間","","分",0,5,{"v":0,"d":"0.00"},{"$error":"#VALUE!"},{"$error":"#VALUE!"},{"$error":"#VALUE!"},{"$error":"#VALUE!"},{"$error":"#VALUE!"}]
[17,null,"日",null,"時間","","日","","時間","","分","","日","","時間","","分",0,5,{"v":0,"d":"0.00"},{"$error":"#VALUE!"},{"$error":"#VALUE!"},{"$error":"#VALUE!"},{"$error":"#VALUE!"},{"$error":"#VALUE!"}]
[18,null,"日",null,"時間","","日","","時間","","分","","日","","時間","","分",0,5,{"v":0,"d":"0.00"},{"$error":"#VALUE!"},{"$error":"#VALUE!"},{"$error":"#VALUE!"},{"$error":"#VALUE!"},{"$error":"#VALUE!"}]
[19,null,"日",null,"時間","","日","","時間","","分","","日","","時間","","分",0,5,{"v":0,"d":"0.00"},{"$error":"#VALUE!"},{"$error":"#VALUE!"},{"$error":"#VALUE!"},{"$error":"#VALUE!"},{"$error":"#VALUE!"}]
[20,null,"日",null,"時間","","日","","時間","","分","","日","","時間","","分",0,5,{"v":0,"d":"0.00"},{"$error":"#VALUE!"},{"$error":"#VALUE!"},{"$error":"#VALUE!"},{"$error":"#VALUE!"},{"$error":"#VALUE!"}]
[21,null,"日",null,"時間","","日","","時間","","分","","日","","時間","","分",0,5,{"v":0,"d":"0.00"},{"$error":"#VALUE!"},{"$error":"#VALUE!"},{"$error":"#VALUE!"},{"$error":"#VALUE!"},{"$error":"#VALUE!"}]
[22,null,"日",null,"時間","","日","","時間","","分","","日","","時間","","分",0,5,{"v":0,"d":"0.00"},{"$error":"#VALUE!"},{"$error":"#VALUE!"},{"$error":"#VALUE!"},{"$error":"#VALUE!"},{"$error":"#VALUE!"}]
[23,null,"日",null,"時間","","日","","時間","","分","","日","","時間","","分",0,5,{"v":0,"d":"0.00"},{"$error":"#VALUE!"},{"$error":"#VALUE!"},{"$error":"#VALUE!"},{"$error":"#VALUE!"},{"$error":"#VALUE!"}]
[24,null,"日",null,"時間","","日","","時間","","分","","日","","時間","","分",0,5,{"v":0,"d":"0.00"},{"$error":"#VALUE!"},{"$error":"#VALUE!"},{"$error":"#VALUE!"},{"$error":"#VALUE!"},{"$error":"#VALUE!"}]
[25,null,"日",null,"時間","","日","","時間","","分","","日","","時間","","分",0,5,{"v":0,"d":"0.00"},{"$error":"#VALUE!"},{"$error":"#VALUE!"},{"$error":"#VALUE!"},{"$error":"#VALUE!"},{"$error":"#VALUE!"}]
[26,null,"日",null,"時間","","日","","時間","","分","","日","","時間","","分",0,5,{"v":0,"d":"0.00"},{"$error":"#VALUE!"},{"$error":"#VALUE!"},{"$error":"#VALUE!"},{"$error":"#VALUE!"},{"$error":"#VALUE!"}]
[27,null,"日",null,"時間","","日","","時間","","分","","日","","時間","","分",0,5,{"v":0,"d":"0.00"},{"$error":"#VALUE!"},{"$error":"#VALUE!"},{"$error":"#VALUE!"},{"$error":"#VALUE!"},{"$error":"#VALUE!"}]
[28,null,"日",null,"時間","","日","","時間","","分","","日","","時間","","分",0,5,{"v":0,"d":"0.00"},{"$error":"#VALUE!"},{"$error":"#VALUE!"},{"$error":"#VALUE!"},{"$error":"#VALUE!"},{"$error":"#VALUE!"}]
[29,null,"日",null,"時間","","日","","時間","","分","","日","","時間","","分",0,5,{"v":0,"d":"0.00"},{"$error":"#VALUE!"},{"$error":"#VALUE!"},{"$error":"#VALUE!"},{"$error":"#VALUE!"},{"$error":"#VALUE!"}]
[30,null,"日",null,"時間","","日","","時間","","分","","日","","時間","","分",0,5,{"v":0,"d":"0.00"},{"$error":"#VALUE!"},{"$error":"#VALUE!"},{"$error":"#VALUE!"},{"$error":"#VALUE!"},{"$error":"#VALUE!"}]
[31,null,"日",null,"時間","","日","","時間","","分","","日","","時間","","分",0,5,{"v":0,"d":"0.00"},{"$error":"#VALUE!"},{"$error":"#VALUE!"},{"$error":"#VALUE!"},{"$error":"#VALUE!"},{"$error":"#VALUE!"}]
[32,null,"日",null,"時間","","日","","時間","","分","","日","","時間","","分",0,5,{"v":0,"d":"0.00"},{"$error":"#VALUE!"},{"$error":"#VALUE!"},{"$error":"#VALUE!"},{"$error":"#VALUE!"},{"$error":"#VALUE!"}]
[33,null,"日",null,"時間","","日","","時間","","分","","日","","時間","","分",0,5,{"v":0,"d":"0.00"},{"$error":"#VALUE!"},{"$error":"#VALUE!"},{"$error":"#VALUE!"},{"$error":"#VALUE!"},{"$error":"#VALUE!"}]
[34,null,"日",null,"時間","","日","","時間","","分","","日","","時間","","分",0,5,{"v":0,"d":"0.00"},{"$error":"#VALUE!"},{"$error":"#VALUE!"},{"$error":"#VALUE!"},{"$error":"#VALUE!"},{"$error":"#VALUE!"}]
[35,null,"日",null,"時間","","日","","時間","","分","","日","","時間","","分",0,5,{"v":0,"d":"0.00"},{"$error":"#VALUE!"},{"$error":"#VALUE!"},{"$error":"#VALUE!"},{"$error":"#VALUE!"},{"$error":"#VALUE!"}]
[36,null,"日",null,"時間","","日","","時間","","分","","日","","時間","","分",0,5,{"v":0,"d":"0.00"},{"$error":"#VALUE!"},{"$error":"#VALUE!"},{"$error":"#VALUE!"},{"$error":"#VALUE!"},{"$error":"#VALUE!"}]
[37,null,"日",null,"時間","","日","","時間","","分","","日","","時間","","分",0,5,{"v":0,"d":"0.00"},{"$error":"#VALUE!"},{"$error":"#VALUE!"},{"$error":"#VALUE!"},{"$error":"#VALUE!"},{"$error":"#VALUE!"}]
[38,null,"日",null,"時間","","日","","時間","","分","","日","","時間","","分",0,5,{"v":0,"d":"0.00"},{"$error":"#VALUE!"},{"$error":"#VALUE!"},{"$error":"#VALUE!"},{"$error":"#VALUE!"},{"$error":"#VALUE!"}]
[39,null,"日",null,"時間","","日","","時間","","分","","日","","時間","","分",0,5,{"v":0,"d":"0.00"},{"$error":"#VALUE!"},{"$error":"#VALUE!"},{"$error":"#VALUE!"},{"$error":"#VALUE!"},{"$error":"#VALUE!"}]
[40,null,"日",null,"時間","","日","","時間","","分","","日","","時間","","分",0,5,{"v":0,"d":"0.00"},{"$error":"#VALUE!"},{"$error":"#VALUE!"},{"$error":"#VALUE!"},{"$error":"#VALUE!"},{"$error":"#VALUE!"}]
[41,null,"日",null,"時間","","日","","時間","","分","","日","","時間","","分",0,5,{"v":0,"d":"0.00"},{"$error":"#VALUE!"},{"$error":"#VALUE!"},{"$error":"#VALUE!"},{"$error":"#VALUE!"},{"$error":"#VALUE!"}]
[42,null,"日",null,"時間","","日","","時間","","分","","日","","時間","","分",0,5,{"v":0,"d":"0.00"},{"$error":"#VALUE!"},{"$error":"#VALUE!"},{"$error":"#VALUE!"},{"$error":"#VALUE!"},{"$error":"#VALUE!"}]
[43,null,"日",null,"時間","","日","","時間","","分","","日","","時間","","分",0,5,{"v":0,"d":"0.00"},{"$error":"#VALUE!"},{"$error":"#VALUE!"},{"$error":"#VALUE!"},{"$error":"#VALUE!"},{"$error":"#VALUE!"}]
[44,null,"日",null,"時間","","日","","時間","","分","","日","","時間","","分",0,5,{"v":0,"d":"0.00"},{"$error":"#VALUE!"},{"$error":"#VALUE!"},{"$error":"#VALUE!"},{"$error":"#VALUE!"},{"$error":"#VALUE!"}]
[45,null,"日",null,"時間","","日","","時間","","分","","日","","時間","","分",0,5,{"v":0,"d":"0.00"},{"$error":"#VALUE!"},{"$error":"#VALUE!"},{"$error":"#VALUE!"},{"$error":"#VALUE!"},{"$error":"#VALUE!"}]
[46,null,"日",null,"時間","","日","","時間","","分","","日","","時間","","分",0,5,{"v":0,"d":"0.00"},{"$error":"#VALUE!"},{"$error":"#VALUE!"},{"$error":"#VALUE!"},{"$error":"#VALUE!"},{"$error":"#VALUE!"}]
[47,null,"日",null,"時間","","日","","時間","","分","","日","","時間","","分",0,5,{"v":0,"d":"0.00"},{"$error":"#VALUE!"},{"$error":"#VALUE!"},{"$error":"#VALUE!"},{"$error":"#VALUE!"},{"$error":"#VALUE!"}]
[48,null,"日",null,"時間","","日","","時間","","分","","日","","時間","","分",0,5,{"v":0,"d":"0.00"},{"$error":"#VALUE!"},{"$error":"#VALUE!"},{"$error":"#VALUE!"},{"$error":"#VALUE!"},{"$error":"#VALUE!"}]
[49,null,"日",null,"時間","","日","","時間","","分","","日","","時間","","分",0,5,{"v":0,"d":"0.00"},{"$error":"#VALUE!"},{"$error":"#VALUE!"},{"$error":"#VALUE!"},{"$error":"#VALUE!"},{"$error":"#VALUE!"}]
[50,null,"日",null,"時間","","日","","時間","","分","","日","","時間","","分",0,5,{"v":0,"d":"0.00"},{"$error":"#VALUE!"},{"$error":"#VALUE!"},{"$error":"#VALUE!"},{"$error":"#VALUE!"},{"$error":"#VALUE!"}]
[51,null,"日",null,"時間","","日","","時間","","分","","日","","時間","","分",0,5,{"v":0,"d":"0.00"},{"$error":"#VALUE!"},{"$error":"#VALUE!"},{"$error":"#VALUE!"},{"$error":"#VALUE!"},{"$error":"#VALUE!"}]
[52,null,"日",null,"時間","","日","","時間","","分","","日","","時間","","分",0,5,{"v":0,"d":"0.00"},{"$error":"#VALUE!"},{"$error":"#VALUE!"},{"$error":"#VALUE!"},{"$error":"#VALUE!"},{"$error":"#VALUE!"}]
[53,null,"日",null,"時間","","日","","時間","","分","","日","","時間","","分",0,5,{"v":0,"d":"0.00"},{"$error":"#VALUE!"},{"$error":"#VALUE!"},{"$error":"#VALUE!"},{"$error":"#VALUE!"},{"$error":"#VALUE!"}]
[54,null,"日",null,"時間","","日","","時間","","分","","日","","時間","","分",0,5,{"v":0,"d":"0.00"},{"$error":"#VALUE!"},{"$error":"#VALUE!"},{"$error":"#VALUE!"},{"$error":"#VALUE!"},{"$error":"#VALUE!"}]
[55,null,"日",null,"時間","","日","","時間","","分","","日","","時間","","分",0,5,{"v":0,"d":"0.00"},{"$error":"#VALUE!"},{"$error":"#VALUE!"},{"$error":"#VALUE!"},{"$error":"#VALUE!"},{"$error":"#VALUE!"}]
[56,null,"日",null,"時間","","日","","時間","","分","","日","","時間","","分",0,5,{"v":0,"d":"0.00"},{"$error":"#VALUE!"},{"$error":"#VALUE!"},{"$error":"#VALUE!"},{"$error":"#VALUE!"},{"$error":"#VALUE!"}]
[57,null,"日",null,"時間","","日","","時間","","分","","日","","時間","","分",0,5,{"v":0,"d":"0.00"},{"$error":"#VALUE!"},{"$error":"#VALUE!"},{"$error":"#VALUE!"},{"$error":"#VALUE!"},{"$error":"#VALUE!"}]
[58,null,"日",null,"時間","","日","","時間","","分","","日","","時間","","分",0,5,{"v":0,"d":"0.00"},{"$error":"#VALUE!"},{"$error":"#VALUE!"},{"$error":"#VALUE!"},{"$error":"#VALUE!"},{"$error":"#VALUE!"}]
[59,null,"日",null,"時間","","日","","時間","","分","","日","","時間","","分",0,5,{"v":0,"d":"0.00"},{"$error":"#VALUE!"},{"$error":"#VALUE!"},{"$error":"#VALUE!"},{"$error":"#VALUE!"},{"$error":"#VALUE!"}]
[60,null,"日",null,"時間","","日","","時間","","分","","日","","時間","","分",0,5,{"v":0,"d":"0.00"},{"$error":"#VALUE!"},{"$error":"#VALUE!"},{"$error":"#VALUE!"},{"$error":"#VALUE!"},{"$error":"#VALUE!"}]
[61,null,"日",null,"時間","","日","","時間","","分","","日","","時間","","分",0,5,{"v":0,"d":"0.00"},{"$error":"#VALUE!"},{"$error":"#VALUE!"},{"$error":"#VALUE!"},{"$error":"#VALUE!"},{"$error":"#VALUE!"}]
[62,null,"日",null,"時間","","日","","時間","","分","","日","","時間","","分",0,5,{"v":0,"d":"0.00"},{"$error":"#VALUE!"},{"$error":"#VALUE!"},{"$error":"#VALUE!"},{"$error":"#VALUE!"},{"$error":"#VALUE!"}]
[63,null,"日",null,"時間","","日","","時間","","分","","日","","時間","","分",0,5,{"v":0,"d":"0.00"},{"$error":"#VALUE!"},{"$error":"#VALUE!"},{"$error":"#VALUE!"},{"$error":"#VALUE!"},{"$error":"#VALUE!"}]
[64,null,"日",null,"時間","","日","","時間","","分","","日","","時間","","分",0,5,{"v":0,"d":"0.00"},{"$error":"#VALUE!"},{"$error":"#VALUE!"},{"$error":"#VALUE!"},{"$error":"#VALUE!"},{"$error":"#VALUE!"}]
[65,null,"日",null,"時間","","日","","時間","","分","","日","","時間","","分",0,5,{"v":0,"d":"0.00"},{"$error":"#VALUE!"},{"$error":"#VALUE!"},{"$error":"#VALUE!"},{"$error":"#VALUE!"},{"$error":"#VALUE!"}]
[66,null,"日",null,"時間",{"$f":"IF(AND(ISBLANK(B69)=TRUE,ISBLANK(D69)=TRUE),\"\",R69+T69)","v":""},"日",{"$f":"IF(AND(ISBLANK(B69)=TRUE,ISBLANK(D69)=TRUE),\"\",INT(U69))","v":""},"時間",{"$f":"IF(AND(ISBLANK(B69)=TRUE,ISBLANK(D69)=TRUE),\"\",MOD(U69,1)*60)","v":""},"分",{"$f":"IF(AND(ISBLANK(B69)=TRUE,ISBLANK(D69)=TRUE),\"\",V69)","v":""},"日",{"$f":"IF(AND(ISBLANK(B69)=TRUE,ISBLANK(D69)=TRUE),\"\",W69)","v":""},"時間",{"$f":"IF(AND(ISBLANK(B69)=TRUE,ISBLANK(D69)=TRUE),\"\",X69)","v":""},"分",{"$f":"R68+B69","v":0},5,{"v":0,"d":"0.00"},{"$f":"IF(H68+J68/60+D69<7.75,H68+J68/60+D69,MOD(H68+J68/60+D69,7.75))","v":{"$error":"#VALUE!"}},{"$f":"IF(N68-D69>=0,L68-B69,L68-B69-1)","v":{"$error":"#VALUE!"}},{"$error":"#VALUE!"},{"$f":"IF(N68-D69>=0,MOD(N68+P68/60-D69,1)*60,MOD(N68+7.75+P68/60-D69,1)*60)","v":{"$error":"#VALUE!"}},{"$f":"F69+L69+(H69+J69/60+N69+P69/60)/7.75","v":{"$error":"#VALUE!"}}]
[67,null,"日",null,"時間","","日","","時間","","分","","日","","時間","","分",{"$f":"R69+B70","v":0},{"$f":"S69+D70","v":5},{"$f":"INT(S70/7.75)","v":{"v":0,"d":"0.00"}},{"$f":"IF(H69+J69/60+D70<7.75,H69+J69/60+D70,MOD(H69+J69/60+D70,7.75))","v":{"$error":"#VALUE!"}},{"$f":"IF(N69-D70>=0,L69-B70,L69-B70-1)","v":{"$error":"#VALUE!"}},{"$f":"IF(N69+P69/60-D70>=0,INT(N69+P69/60-D70),INT(N69+P69/60+7.75-D70))","v":{"$error":"#VALUE!"}},{"$f":"IF(N69-D70>=0,MOD(N69+P69/60-D70,1)*60,MOD(N69+7.75+P69/60-D70,1)*60)","v":{"$error":"#VALUE!"}},{"$f":"F70+L70+(H70+J70/60+N70+P70/60)/7.75","v":{"$error":"#VALUE!"}}]
[68,null,"日",null,"時間","","日","","時間","","分","","日","","時間","","分",0,5,{"v":0,"d":"0.00"},{"$error":"#VALUE!"},{"$error":"#VALUE!"},{"$error":"#VALUE!"},{"$error":"#VALUE!"},{"$error":"#VALUE!"}]
[69,null,"日",null,"時間","","日","","時間","","分","","日","","時間","","分",0,5,{"v":0,"d":"0.00"},{"$error":"#VALUE!"},{"$error":"#VALUE!"},{"$error":"#VALUE!"},{"$error":"#VALUE!"},{"$error":"#VALUE!"}]
[70,null,"日",null,"時間","","日","","時間","","分","","日","","時間","","分",0,5,{"v":0,"d":"0.00"},{"$error":"#VALUE!"},{"$error":"#VALUE!"},{"$error":"#VALUE!"},{"$error":"#VALUE!"},{"$error":"#VALUE!"}]
[71,null,"日",null,"時間","","日","","時間","","分","","日","","時間","","分",0,5,{"v":0,"d":"0.00"},{"$error":"#VALUE!"},{"$error":"#VALUE!"},{"$error":"#VALUE!"},{"$error":"#VALUE!"},{"$error":"#VALUE!"}]
[72,null,"日",null,"時間","","日","","時間","","分","","日","","時間","","分",0,5,{"v":0,"d":"0.00"},{"$error":"#VALUE!"},{"$error":"#VALUE!"},{"$error":"#VALUE!"},{"$error":"#VALUE!"},{"$error":"#VALUE!"}]
[73,null,"日",null,"時間","","日","","時間","","分","","日","","時間","","分",0,5,{"v":0,"d":"0.00"},{"$error":"#VALUE!"},{"$error":"#VALUE!"},{"$error":"#VALUE!"},{"$error":"#VALUE!"},{"$error":"#VALUE!"}]
[74,null,"日",null,"時間","","日","","時間","","分","","日","","時間","","分",0,5,{"v":0,"d":"0.00"},{"$error":"#VALUE!"},{"$error":"#VALUE!"},{"$error":"#VALUE!"},{"$error":"#VALUE!"},{"$error":"#VALUE!"}]
[75,null,"日",null,"時間","","日","","時間","","分","","日","","時間","","分",0,5,{"v":0,"d":"0.00"},{"$error":"#VALUE!"},{"$error":"#VALUE!"},{"$error":"#VALUE!"},{"$error":"#VALUE!"},{"$error":"#VALUE!"}]
[76,null,"日",null,"時間","","日","","時間","","分","","日","","時間","","分",0,5,{"v":0,"d":"0.00"},{"$error":"#VALUE!"},{"$error":"#VALUE!"},{"$error":"#VALUE!"},{"$error":"#VALUE!"},{"$error":"#VALUE!"}]
[77,null,"日",null,"時間","","日","","時間","","分","","日","","時間","","分",0,5,{"v":0,"d":"0.00"},{"$error":"#VALUE!"},{"$error":"#VALUE!"},{"$error":"#VALUE!"},{"$error":"#VALUE!"},{"$error":"#VALUE!"}]
[78,null,"日",null,"時間","","日","","時間","","分","","日","","時間","","分",0,5,{"v":0,"d":"0.00"},{"$error":"#VALUE!"},{"$error":"#VALUE!"},{"$error":"#VALUE!"},{"$error":"#VALUE!"},{"$error":"#VALUE!"}]
[79,null,"日",null,"時間","","日","","時間","","分","","日","","時間","","分",0,5,{"v":0,"d":"0.00"},{"$error":"#VALUE!"},{"$error":"#VALUE!"},{"$error":"#VALUE!"},{"$error":"#VALUE!"},{"$error":"#VALUE!"}]
[80,null,"日",null,"時間","","日","","時間","","分","","日","","時間","","分",0,5,{"v":0,"d":"0.00"},{"$error":"#VALUE!"},{"$error":"#VALUE!"},{"$error":"#VALUE!"},{"$error":"#VALUE!"},{"$error":"#VALUE!"}]
[81,null,"日",null,"時間","","日","","時間","","分","","日","","時間","","分",0,5,{"v":0,"d":"0.00"},{"$error":"#VALUE!"},{"$error":"#VALUE!"},{"$error":"#VALUE!"},{"$error":"#VALUE!"},{"$error":"#VALUE!"}]
[82,null,"日",null,"時間","","日","","時間","","分","","日","","時間","","分",0,5,{"v":0,"d":"0.00"},{"$error":"#VALUE!"},{"$error":"#VALUE!"},{"$error":"#VALUE!"},{"$error":"#VALUE!"},{"$error":"#VALUE!"}]
[83,null,"日",null,"時間","","日","","時間","","分","","日","","時間","","分",0,5,{"v":0,"d":"0.00"},{"$error":"#VALUE!"},{"$error":"#VALUE!"},{"$error":"#VALUE!"},{"$error":"#VALUE!"},{"$error":"#VALUE!"}]
[84,null,"日",null,"時間","","日","","時間","","分","","日","","時間","","分",0,5,{"v":0,"d":"0.00"},{"$error":"#VALUE!"},{"$error":"#VALUE!"},{"$error":"#VALUE!"},{"$error":"#VALUE!"},{"$error":"#VALUE!"}]
[85,null,"日",null,"時間","","日","","時間","","分","","日","","時間","","分",0,5,{"v":0,"d":"0.00"},{"$error":"#VALUE!"},{"$error":"#VALUE!"},{"$error":"#VALUE!"},{"$error":"#VALUE!"},{"$error":"#VALUE!"}]
[86,null,"日",null,"時間","","日","","時間","","分","","日","","時間","","分",0,5,{"v":0,"d":"0.00"},{"$error":"#VALUE!"},{"$error":"#VALUE!"},{"$error":"#VALUE!"},{"$error":"#VALUE!"},{"$error":"#VALUE!"}]
[87,null,"日",null,"時間","","日","","時間","","分","","日","","時間","","分",0,5,{"v":0,"d":"0.00"},{"$error":"#VALUE!"},{"$error":"#VALUE!"},{"$error":"#VALUE!"},{"$error":"#VALUE!"},{"$error":"#VALUE!"}]
[88,null,"日",null,"時間","","日","","時間","","分","","日","","時間","","分",0,5,{"v":0,"d":"0.00"},{"$error":"#VALUE!"},{"$error":"#VALUE!"},{"$error":"#VALUE!"},{"$error":"#VALUE!"},{"$error":"#VALUE!"}]
[89,null,"日",null,"時間","","日","","時間","","分","","日","","時間","","分",0,5,{"v":0,"d":"0.00"},{"$error":"#VALUE!"},{"$error":"#VALUE!"},{"$error":"#VALUE!"},{"$error":"#VALUE!"},{"$error":"#VALUE!"}]
[90,null,"日",null,"時間","","日","","時間","","分","","日","","時間","","分",0,5,{"v":0,"d":"0.00"},{"$error":"#VALUE!"},{"$error":"#VALUE!"},{"$error":"#VALUE!"},{"$error":"#VALUE!"},{"$error":"#VALUE!"}]
[91,null,"日",null,"時間","","日","","時間","","分","","日","","時間","","分",0,5,{"v":0,"d":"0.00"},{"$error":"#VALUE!"},{"$error":"#VALUE!"},{"$error":"#VALUE!"},{"$error":"#VALUE!"},{"$error":"#VALUE!"}]
[92,null,"日",null,"時間","","日","","時間","","分","","日","","時間","","分",0,5,{"v":0,"d":"0.00"},{"$error":"#VALUE!"},{"$error":"#VALUE!"},{"$error":"#VALUE!"},{"$error":"#VALUE!"},{"$error":"#VALUE!"}]
[93,null,"日",null,"時間","","日","","時間","","分","","日","","時間","","分",0,5,{"v":0,"d":"0.00"},{"$error":"#VALUE!"},{"$error":"#VALUE!"},{"$error":"#VALUE!"},{"$error":"#VALUE!"},{"$error":"#VALUE!"}]
[94,null,"日",null,"時間","","日","","時間","","分","","日","","時間","","分",0,5,{"v":0,"d":"0.00"},{"$error":"#VALUE!"},{"$error":"#VALUE!"},{"$error":"#VALUE!"},{"$error":"#VALUE!"},{"$error":"#VALUE!"}]
[95,null,"日",null,"時間","","日","","時間","","分","","日","","時間","","分",0,5,{"v":0,"d":"0.00"},{"$error":"#VALUE!"},{"$error":"#VALUE!"},{"$error":"#VALUE!"},{"$error":"#VALUE!"},{"$error":"#VALUE!"}]
[96,null,"日",null,"時間","","日","","時間","","分","","日","","時間","","分",0,5,{"v":0,"d":"0.00"},{"$error":"#VALUE!"},{"$error":"#VALUE!"},{"$error":"#VALUE!"},{"$error":"#VALUE!"},{"$error":"#VALUE!"}]
[97,null,"日",null,"時間","","日","","時間","","分","","日","","時間","","分",0,5,{"v":0,"d":"0.00"},{"$error":"#VALUE!"},{"$error":"#VALUE!"},{"$error":"#VALUE!"},{"$error":"#VALUE!"},{"$error":"#VALUE!"}]
[98,null,"日",null,"時間","","日","","時間","","分","","日","","時間","","分",0,5,{"v":0,"d":"0.00"},{"$error":"#VALUE!"},{"$error":"#VALUE!"},{"$error":"#VALUE!"},{"$error":"#VALUE!"},{"$error":"#VALUE!"}]
[99,null,"日",null,"時間","","日","","時間","","分","","日","","時間","","分",0,5,{"v":0,"d":"0.00"},{"$error":"#VALUE!"},{"$error":"#VALUE!"},{"$error":"#VALUE!"},{"$error":"#VALUE!"},{"$error":"#VALUE!"}]
[100,null,"日",null,"時間","","日","","時間","","分","","日","","時間","","分",0,5,{"v":0,"d":"0.00"},{"$error":"#VALUE!"},{"$error":"#VALUE!"},{"$error":"#VALUE!"},{"$error":"#VALUE!"},{"$error":"#VALUE!"}]
[101,null,"日",null,"時間","","日","","時間","","分","","日","","時間","","分",0,5,{"v":0,"d":"0.00"},{"$error":"#VALUE!"},{"$error":"#VALUE!"},{"$error":"#VALUE!"},{"$error":"#VALUE!"},{"$error":"#VALUE!"}]
[102,null,"日",null,"時間","","日","","時間","","分","","日","","時間","","分",0,5,{"v":0,"d":"0.00"},{"$error":"#VALUE!"},{"$error":"#VALUE!"},{"$error":"#VALUE!"},{"$error":"#VALUE!"},{"$error":"#VALUE!"}]
[103,null,"日",null,"時間","","日","","時間","","分","","日","","時間","","分",0,5,{"v":0,"d":"0.00"},{"$error":"#VALUE!"},{"$error":"#VALUE!"},{"$error":"#VALUE!"},{"$error":"#VALUE!"},{"$error":"#VALUE!"}]
[104,null,"日",null,"時間","","日","","時間","","分","","日","","時間","","分",0,5,{"v":0,"d":"0.00"},{"$error":"#VALUE!"},{"$error":"#VALUE!"},{"$error":"#VALUE!"},{"$error":"#VALUE!"},{"$error":"#VALUE!"}]
[105,null,"日",null,"時間","","日","","時間","","分","","日","","時間","","分",0,5,{"v":0,"d":"0.00"},{"$error":"#VALUE!"},{"$error":"#VALUE!"},{"$error":"#VALUE!"},{"$error":"#VALUE!"},{"$error":"#VALUE!"}]
[106,null,"日",null,"時間","","日","","時間","","分","","日","","時間","","分",0,5,{"v":0,"d":"0.00"},{"$error":"#VALUE!"},{"$error":"#VALUE!"},{"$error":"#VALUE!"},{"$error":"#VALUE!"},{"$error":"#VALUE!"}]
[107,null,"日",null,"時間","","日","","時間","","分","","日","","時間","","分",0,5,{"v":0,"d":"0.00"},{"$error":"#VALUE!"},{"$error":"#VALUE!"},{"$error":"#VALUE!"},{"$error":"#VALUE!"},{"$error":"#VALUE!"}]
[108,null,"日",null,"時間","","日","","時間","","分","","日","","時間","","分",0,5,{"v":0,"d":"0.00"},{"$error":"#VALUE!"},{"$error":"#VALUE!"},{"$error":"#VALUE!"},{"$error":"#VALUE!"},{"$error":"#VALUE!"}]
[109,null,"日",null,"時間","","日","","時間","","分","","日","","時間","","分",0,5,{"v":0,"d":"0.00"},{"$error":"#VALUE!"},{"$error":"#VALUE!"},{"$error":"#VALUE!"},{"$error":"#VALUE!"},{"$error":"#VALUE!"}]
[110,null,"日",null,"時間","","日","","時間","","分","","日","","時間","","分",0,5,{"v":0,"d":"0.00"},{"$error":"#VALUE!"},{"$error":"#VALUE!"},{"$error":"#VALUE!"},{"$error":"#VALUE!"},{"$error":"#VALUE!"}]
[111,null,"日",null,"時間","","日","","時間","","分","","日","","時間","","分",0,5,{"v":0,"d":"0.00"},{"$error":"#VALUE!"},{"$error":"#VALUE!"},{"$error":"#VALUE!"},{"$error":"#VALUE!"},{"$error":"#VALUE!"}]
[112,null,"日",null,"時間","","日","","時間","","分","","日","","時間","","分",0,5,{"v":0,"d":"0.00"},{"$error":"#VALUE!"},{"$error":"#VALUE!"},{"$error":"#VALUE!"},{"$error":"#VALUE!"},{"$error":"#VALUE!"}]
[113,null,"日",null,"時間","","日","","時間","","分","","日","","時間","","分",0,5,{"v":0,"d":"0.00"},{"$error":"#VALUE!"},{"$error":"#VALUE!"},{"$error":"#VALUE!"},{"$error":"#VALUE!"},{"$error":"#VALUE!"}]
[114,null,"日",null,"時間","","日","","時間","","分","","日","","時間","","分",0,5,{"v":0,"d":"0.00"},{"$error":"#VALUE!"},{"$error":"#VALUE!"},{"$error":"#VALUE!"},{"$error":"#VALUE!"},{"$error":"#VALUE!"}]
[115,null,"日",null,"時間","","日","","時間","","分","","日","","時間","","分",0,5,{"v":0,"d":"0.00"},{"$error":"#VALUE!"},{"$error":"#VALUE!"},{"$error":"#VALUE!"},{"$error":"#VALUE!"},{"$error":"#VALUE!"}]
[116,null,"日",null,"時間","","日","","時間","","分","","日","","時間","","分",0,5,{"v":0,"d":"0.00"},{"$error":"#VALUE!"},{"$error":"#VALUE!"},{"$error":"#VALUE!"},{"$error":"#VALUE!"},{"$error":"#VALUE!"}]
[117,null,"日",null,"時間","","日","","時間","","分","","日","","時間","","分",0,5,{"v":0,"d":"0.00"},{"$error":"#VALUE!"},{"$error":"#VALUE!"},{"$error":"#VALUE!"},{"$error":"#VALUE!"},{"$error":"#VALUE!"}]
[118,null,"日",null,"時間","","日","","時間","","分","","日","","時間","","分",0,5,{"v":0,"d":"0.00"},{"$error":"#VALUE!"},{"$error":"#VALUE!"},{"$error":"#VALUE!"},{"$error":"#VALUE!"},{"$error":"#VALUE!"}]
[119,null,"日",null,"時間","","日","","時間","","分","","日","","時間","","分",0,5,{"v":0,"d":"0.00"},{"$error":"#VALUE!"},{"$error":"#VALUE!"},{"$error":"#VALUE!"},{"$error":"#VALUE!"},{"$error":"#VALUE!"}]
[120,null,"日",null,"時間","","日","","時間","","分","","日","","時間","","分",0,5,{"v":0,"d":"0.00"},{"$error":"#VALUE!"},{"$error":"#VALUE!"},{"$error":"#VALUE!"},{"$error":"#VALUE!"},{"$error":"#VALUE!"}]
[121,null,"日",null,"時間","","日","","時間","","分","","日","","時間","","分",0,5,{"v":0,"d":"0.00"},{"$error":"#VALUE!"},{"$error":"#VALUE!"},{"$error":"#VALUE!"},{"$error":"#VALUE!"},{"$error":"#VALUE!"}]
[122,null,"日",null,"時間","","日","","時間","","分","","日","","時間","","分",0,5,{"v":0,"d":"0.00"},{"$error":"#VALUE!"},{"$error":"#VALUE!"},{"$error":"#VALUE!"},{"$error":"#VALUE!"},{"$error":"#VALUE!"}]
[123,null,"日",null,"時間","","日","","時間","","分","","日","","時間","","分",0,5,{"v":0,"d":"0.00"},{"$error":"#VALUE!"},{"$error":"#VALUE!"},{"$error":"#VALUE!"},{"$error":"#VALUE!"},{"$error":"#VALUE!"}]
[124,null,"日",null,"時間","","日","","時間","","分","","日","","時間","","分",0,5,{"v":0,"d":"0.00"},{"$error":"#VALUE!"},{"$error":"#VALUE!"},{"$error":"#VALUE!"},{"$error":"#VALUE!"},{"$error":"#VALUE!"}]
[125,null,"日",null,"時間","","日","","時間","","分","","日","","時間","","分",0,5,{"v":0,"d":"0.00"},{"$error":"#VALUE!"},{"$error":"#VALUE!"},{"$error":"#VALUE!"},{"$error":"#VALUE!"},{"$error":"#VALUE!"}]
[126,null,"日",null,"時間","","日","","時間","","分","","日","","時間","","分",0,5,{"v":0,"d":"0.00"},{"$error":"#VALUE!"},{"$error":"#VALUE!"},{"$error":"#VALUE!"},{"$error":"#VALUE!"},{"$error":"#VALUE!"}]
[127,null,"日",null,"時間","","日","","時間","","分","","日","","時間","","分",0,5,{"v":0,"d":"0.00"},{"$error":"#VALUE!"},{"$error":"#VALUE!"},{"$error":"#VALUE!"},{"$error":"#VALUE!"},{"$error":"#VALUE!"}]
[128,null,"日",null,"時間","","日","","時間","","分","","日","","時間","","分",0,5,{"v":0,"d":"0.00"},{"$error":"#VALUE!"},{"$error":"#VALUE!"},{"$error":"#VALUE!"},{"$error":"#VALUE!"},{"$error":"#VALUE!"}]
[129,null,"日",null,"時間","","日","","時間","","分","","日","","時間","","分",0,5,{"v":0,"d":"0.00"},{"$error":"#VALUE!"},{"$error":"#VALUE!"},{"$error":"#VALUE!"},{"$error":"#VALUE!"},{"$error":"#VALUE!"}]
[130,null,"日",null,"時間",{"$f":"IF(AND(ISBLANK(B133)=TRUE,ISBLANK(D133)=TRUE),\"\",R133+T133)","v":""},"日",{"$f":"IF(AND(ISBLANK(B133)=TRUE,ISBLANK(D133)=TRUE),\"\",INT(U133))","v":""},"時間",{"$f":"IF(AND(ISBLANK(B133)=TRUE,ISBLANK(D133)=TRUE),\"\",MOD(U133,1)*60)","v":""},"分",{"$f":"IF(AND(ISBLANK(B133)=TRUE,ISBLANK(D133)=TRUE),\"\",V133)","v":""},"日",{"$f":"IF(AND(ISBLANK(B133)=TRUE,ISBLANK(D133)=TRUE),\"\",W133)","v":""},"時間",{"$f":"IF(AND(ISBLANK(B133)=TRUE,ISBLANK(D133)=TRUE),\"\",X133)","v":""},"分",0,5,{"v":0,"d":"0.00"},{"$error":"#VALUE!"},{"$error":"#VALUE!"},{"$error":"#VALUE!"},{"$error":"#VALUE!"},{"$error":"#VALUE!"}]
[131,null,"日",null,"時間","","日","","時間","","分","","日","","時間","","分",{"$f":"R133+B134","v":0},{"$f":"S133+D134","v":5},{"$f":"INT(S134/7.75)","v":{"v":0,"d":"0.00"}},{"$f":"IF(H133+J133/60+D134<7.75,H133+J133/60+D134,MOD(H133+J133/60+D134,7.75))","v":{"$error":"#VALUE!"}},{"$f":"IF(N133-D134>=0,L133-B134,L133-B134-1)","v":{"$error":"#VALUE!"}},{"$f":"IF(N133+P133/60-D134>=0,INT(N133+P133/60-D134),INT(N133+P133/60+7.75-D134))","v":{"$error":"#VALUE!"}},{"$f":"IF(N133-D134>=0,MOD(N133+P133/60-D134,1)*60,MOD(N133+7.75+P133/60-D134,1)*60)","v":{"$error":"#VALUE!"}},{"$f":"F134+L134+(H134+J134/60+N134+P134/60)/7.75","v":{"$error":"#VALUE!"}}]
[132,null,"日",null,"時間","","日","","時間","","分","","日","","時間","","分",0,5,{"v":0,"d":"0.00"},{"$error":"#VALUE!"},{"$error":"#VALUE!"},{"$error":"#VALUE!"},{"$error":"#VALUE!"},{"$error":"#VALUE!"}]
[133,null,"日",null,"時間","","日","","時間","","分","","日","","時間","","分",0,5,{"v":0,"d":"0.00"},{"$error":"#VALUE!"},{"$error":"#VALUE!"},{"$error":"#VALUE!"},{"$error":"#VALUE!"},{"$error":"#VALUE!"}]
[134,null,"日",null,"時間","","日","","時間","","分","","日","","時間","","分",0,5,{"v":0,"d":"0.00"},{"$error":"#VALUE!"},{"$error":"#VALUE!"},{"$error":"#VALUE!"},{"$error":"#VALUE!"},{"$error":"#VALUE!"}]
[135,null,"日",null,"時間","","日","","時間","","分","","日","","時間","","分",0,5,{"v":0,"d":"0.00"},{"$error":"#VALUE!"},{"$error":"#VALUE!"},{"$error":"#VALUE!"},{"$error":"#VALUE!"},{"$error":"#VALUE!"}]
[136,null,"日",null,"時間","","日","","時間","","分","","日","","時間","","分",0,5,{"v":0,"d":"0.00"},{"$error":"#VALUE!"},{"$error":"#VALUE!"},{"$error":"#VALUE!"},{"$error":"#VALUE!"},{"$error":"#VALUE!"}]
[137,null,"日",null,"時間","","日","","時間","","分","","日","","時間","","分",0,5,{"v":0,"d":"0.00"},{"$error":"#VALUE!"},{"$error":"#VALUE!"},{"$error":"#VALUE!"},{"$error":"#VALUE!"},{"$error":"#VALUE!"}]
[138,null,"日",null,"時間","","日","","時間","","分","","日","","時間","","分",0,5,{"v":0,"d":"0.00"},{"$error":"#VALUE!"},{"$error":"#VALUE!"},{"$error":"#VALUE!"},{"$error":"#VALUE!"},{"$error":"#VALUE!"}]
[139,null,"日",null,"時間","","日","","時間","","分","","日","","時間","","分",0,5,{"v":0,"d":"0.00"},{"$error":"#VALUE!"},{"$error":"#VALUE!"},{"$error":"#VALUE!"},{"$error":"#VALUE!"},{"$error":"#VALUE!"}]
[140,null,"日",null,"時間","","日","","時間","","分","","日","","時間","","分",0,5,{"v":0,"d":"0.00"},{"$error":"#VALUE!"},{"$error":"#VALUE!"},{"$error":"#VALUE!"},{"$error":"#VALUE!"},{"$error":"#VALUE!"}]
[141,null,"日",null,"時間","","日","","時間","","分","","日","","時間","","分",0,5,{"v":0,"d":"0.00"},{"$error":"#VALUE!"},{"$error":"#VALUE!"},{"$error":"#VALUE!"},{"$error":"#VALUE!"},{"$error":"#VALUE!"}]
[142,null,"日",null,"時間","","日","","時間","","分","","日","","時間","","分",0,5,{"v":0,"d":"0.00"},{"$error":"#VALUE!"},{"$error":"#VALUE!"},{"$error":"#VALUE!"},{"$error":"#VALUE!"},{"$error":"#VALUE!"}]
[143,null,"日",null,"時間","","日","","時間","","分","","日","","時間","","分",0,5,{"v":0,"d":"0.00"},{"$error":"#VALUE!"},{"$error":"#VALUE!"},{"$error":"#VALUE!"},{"$error":"#VALUE!"},{"$error":"#VALUE!"}]
[144,null,"日",null,"時間","","日","","時間","","分","","日","","時間","","分",0,5,{"v":0,"d":"0.00"},{"$error":"#VALUE!"},{"$error":"#VALUE!"},{"$error":"#VALUE!"},{"$error":"#VALUE!"},{"$error":"#VALUE!"}]
[145,null,"日",null,"時間","","日","","時間","","分","","日","","時間","","分",0,5,{"v":0,"d":"0.00"},{"$error":"#VALUE!"},{"$error":"#VALUE!"},{"$error":"#VALUE!"},{"$error":"#VALUE!"},{"$error":"#VALUE!"}]
[146,null,"日",null,"時間","","日","","時間","","分","","日","","時間","","分",0,5,{"v":0,"d":"0.00"},{"$error":"#VALUE!"},{"$error":"#VALUE!"},{"$error":"#VALUE!"},{"$error":"#VALUE!"},{"$error":"#VALUE!"}]
[147,null,"日",null,"時間","","日","","時間","","分","","日","","時間","","分",0,5,{"v":0,"d":"0.00"},{"$error":"#VALUE!"},{"$error":"#VALUE!"},{"$error":"#VALUE!"},{"$error":"#VALUE!"},{"$error":"#VALUE!"}]
[148,null,"日",null,"時間","","日","","時間","","分","","日","","時間","","分",0,5,{"v":0,"d":"0.00"},{"$error":"#VALUE!"},{"$error":"#VALUE!"},{"$error":"#VALUE!"},{"$error":"#VALUE!"},{"$error":"#VALUE!"}]
[149,null,"日",null,"時間","","日","","時間","","分","","日","","時間","","分",0,5,{"v":0,"d":"0.00"},{"$error":"#VALUE!"},{"$error":"#VALUE!"},{"$error":"#VALUE!"},{"$error":"#VALUE!"},{"$error":"#VALUE!"}]
[150,null,"日",null,"時間","","日","","時間","","分","","日","","時間","","分",0,5,{"v":0,"d":"0.00"},{"$error":"#VALUE!"},{"$error":"#VALUE!"},{"$error":"#VALUE!"},{"$error":"#VALUE!"},{"$error":"#VALUE!"}]
[151,null,"日",null,"時間","","日","","時間","","分","","日","","時間","","分",0,5,{"v":0,"d":"0.00"},{"$error":"#VALUE!"},{"$error":"#VALUE!"},{"$error":"#VALUE!"},{"$error":"#VALUE!"},{"$error":"#VALUE!"}]
[152,null,"日",null,"時間","","日","","時間","","分","","日","","時間","","分",0,5,{"v":0,"d":"0.00"},{"$error":"#VALUE!"},{"$error":"#VALUE!"},{"$error":"#VALUE!"},{"$error":"#VALUE!"},{"$error":"#VALUE!"}]
[153,null,"日",null,"時間","","日","","時間","","分","","日","","時間","","分",0,5,{"v":0,"d":"0.00"},{"$error":"#VALUE!"},{"$error":"#VALUE!"},{"$error":"#VALUE!"},{"$error":"#VALUE!"},{"$error":"#VALUE!"}]
[154,null,"日",null,"時間","","日","","時間","","分","","日","","時間","","分",0,5,{"v":0,"d":"0.00"},{"$error":"#VALUE!"},{"$error":"#VALUE!"},{"$error":"#VALUE!"},{"$error":"#VALUE!"},{"$error":"#VALUE!"}]
[155,null,"日",null,"時間","","日","","時間","","分","","日","","時間","","分",0,5,{"v":0,"d":"0.00"},{"$error":"#VALUE!"},{"$error":"#VALUE!"},{"$error":"#VALUE!"},{"$error":"#VALUE!"},{"$error":"#VALUE!"}]
[156,null,"日",null,"時間","","日","","時間","","分","","日","","時間","","分",0,5,{"v":0,"d":"0.00"},{"$error":"#VALUE!"},{"$error":"#VALUE!"},{"$error":"#VALUE!"},{"$error":"#VALUE!"},{"$error":"#VALUE!"}]
[157,null,"日",null,"時間","","日","","時間","","分","","日","","時間","","分",0,5,{"v":0,"d":"0.00"},{"$error":"#VALUE!"},{"$error":"#VALUE!"},{"$error":"#VALUE!"},{"$error":"#VALUE!"},{"$error":"#VALUE!"}]
[158,null,"日",null,"時間","","日","","時間","","分","","日","","時間","","分",0,5,{"v":0,"d":"0.00"},{"$error":"#VALUE!"},{"$error":"#VALUE!"},{"$error":"#VALUE!"},{"$error":"#VALUE!"},{"$error":"#VALUE!"}]
[159,null,"日",null,"時間","","日","","時間","","分","","日","","時間","","分",0,5,{"v":0,"d":"0.00"},{"$error":"#VALUE!"},{"$error":"#VALUE!"},{"$error":"#VALUE!"},{"$error":"#VALUE!"},{"$error":"#VALUE!"}]
[160,null,"日",null,"時間","","日","","時間","","分","","日","","時間","","分",0,5,{"v":0,"d":"0.00"},{"$error":"#VALUE!"},{"$error":"#VALUE!"},{"$error":"#VALUE!"},{"$error":"#VALUE!"},{"$error":"#VALUE!"}]
[161,null,"日",null,"時間","","日","","時間","","分","","日","","時間","","分",0,5,{"v":0,"d":"0.00"},{"$error":"#VALUE!"},{"$error":"#VALUE!"},{"$error":"#VALUE!"},{"$error":"#VALUE!"},{"$error":"#VALUE!"}]
[162,null,"日",null,"時間","","日","","時間","","分","","日","","時間","","分",0,5,{"v":0,"d":"0.00"},{"$error":"#VALUE!"},{"$error":"#VALUE!"},{"$error":"#VALUE!"},{"$error":"#VALUE!"},{"$error":"#VALUE!"}]
[163,null,"日",null,"時間","","日","","時間","","分","","日","","時間","","分",0,5,{"v":0,"d":"0.00"},{"$error":"#VALUE!"},{"$error":"#VALUE!"},{"$error":"#VALUE!"},{"$error":"#VALUE!"},{"$error":"#VALUE!"}]
[164,null,"日",null,"時間","","日","","時間","","分","","日","","時間","","分",0,5,{"v":0,"d":"0.00"},{"$error":"#VALUE!"},{"$error":"#VALUE!"},{"$error":"#VALUE!"},{"$error":"#VALUE!"},{"$error":"#VALUE!"}]
[165,null,"日",null,"時間","","日","","時間","","分","","日","","時間","","分",0,5,{"v":0,"d":"0.00"},{"$error":"#VALUE!"},{"$error":"#VALUE!"},{"$error":"#VALUE!"},{"$error":"#VALUE!"},{"$error":"#VALUE!"}]
[166,null,"日",null,"時間","","日","","時間","","分","","日","","時間","","分",0,5,{"v":0,"d":"0.00"},{"$error":"#VALUE!"},{"$error":"#VALUE!"},{"$error":"#VALUE!"},{"$error":"#VALUE!"},{"$error":"#VALUE!"}]
[167,null,"日",null,"時間","","日","","時間","","分","","日","","時間","","分",0,5,{"v":0,"d":"0.00"},{"$error":"#VALUE!"},{"$error":"#VALUE!"},{"$error":"#VALUE!"},{"$error":"#VALUE!"},{"$error":"#VALUE!"}]
[168,null,"日",null,"時間","","日","","時間","","分","","日","","時間","","分",0,5,{"v":0,"d":"0.00"},{"$error":"#VALUE!"},{"$error":"#VALUE!"},{"$error":"#VALUE!"},{"$error":"#VALUE!"},{"$error":"#VALUE!"}]
[169,null,"日",null,"時間","","日","","時間","","分","","日","","時間","","分",0,5,{"v":0,"d":"0.00"},{"$error":"#VALUE!"},{"$error":"#VALUE!"},{"$error":"#VALUE!"},{"$error":"#VALUE!"},{"$error":"#VALUE!"}]
[170,null,"日",null,"時間","","日","","時間","","分","","日","","時間","","分",0,5,{"v":0,"d":"0.00"},{"$error":"#VALUE!"},{"$error":"#VALUE!"},{"$error":"#VALUE!"},{"$error":"#VALUE!"},{"$error":"#VALUE!"}]
[171,null,"日",null,"時間","","日","","時間","","分","","日","","時間","","分",0,5,{"v":0,"d":"0.00"},{"$error":"#VALUE!"},{"$error":"#VALUE!"},{"$error":"#VALUE!"},{"$error":"#VALUE!"},{"$error":"#VALUE!"}]
[172,null,"日",null,"時間","","日","","時間","","分","","日","","時間","","分",0,5,{"v":0,"d":"0.00"},{"$error":"#VALUE!"},{"$error":"#VALUE!"},{"$error":"#VALUE!"},{"$error":"#VALUE!"},{"$error":"#VALUE!"}]
[173,null,"日",null,"時間","","日","","時間","","分","","日","","時間","","分",0,5,{"v":0,"d":"0.00"},{"$error":"#VALUE!"},{"$error":"#VALUE!"},{"$error":"#VALUE!"},{"$error":"#VALUE!"},{"$error":"#VALUE!"}]
[174,null,"日",null,"時間","","日","","時間","","分","","日","","時間","","分",0,5,{"v":0,"d":"0.00"},{"$error":"#VALUE!"},{"$error":"#VALUE!"},{"$error":"#VALUE!"},{"$error":"#VALUE!"},{"$error":"#VALUE!"}]
[175,null,"日",null,"時間","","日","","時間","","分","","日","","時間","","分",0,5,{"v":0,"d":"0.00"},{"$error":"#VALUE!"},{"$error":"#VALUE!"},{"$error":"#VALUE!"},{"$error":"#VALUE!"},{"$error":"#VALUE!"}]
[176,null,"日",null,"時間","","日","","時間","","分","","日","","時間","","分",0,5,{"v":0,"d":"0.00"},{"$error":"#VALUE!"},{"$error":"#VALUE!"},{"$error":"#VALUE!"},{"$error":"#VALUE!"},{"$error":"#VALUE!"}]
[177,null,"日",null,"時間","","日","","時間","","分","","日","","時間","","分",0,5,{"v":0,"d":"0.00"},{"$error":"#VALUE!"},{"$error":"#VALUE!"},{"$error":"#VALUE!"},{"$error":"#VALUE!"},{"$error":"#VALUE!"}]
[178,null,"日",null,"時間","","日","","時間","","分","","日","","時間","","分",0,5,{"v":0,"d":"0.00"},{"$error":"#VALUE!"},{"$error":"#VALUE!"},{"$error":"#VALUE!"},{"$error":"#VALUE!"},{"$error":"#VALUE!"}]
[179,null,"日",null,"時間","","日","","時間","","分","","日","","時間","","分",0,5,{"v":0,"d":"0.00"},{"$error":"#VALUE!"},{"$error":"#VALUE!"},{"$error":"#VALUE!"},{"$error":"#VALUE!"},{"$error":"#VALUE!"}]
[180,null,"日",null,"時間","","日","","時間","","分","","日","","時間","","分",0,5,{"v":0,"d":"0.00"},{"$error":"#VALUE!"},{"$error":"#VALUE!"},{"$error":"#VALUE!"},{"$error":"#VALUE!"},{"$error":"#VALUE!"}]
[181,null,"日",null,"時間","","日","","時間","","分","","日","","時間","","分",0,5,{"v":0,"d":"0.00"},{"$error":"#VALUE!"},{"$error":"#VALUE!"},{"$error":"#VALUE!"},{"$error":"#VALUE!"},{"$error":"#VALUE!"}]
[182,null,"日",null,"時間","","日","","時間","","分","","日","","時間","","分",0,5,{"v":0,"d":"0.00"},{"$error":"#VALUE!"},{"$error":"#VALUE!"},{"$error":"#VALUE!"},{"$error":"#VALUE!"},{"$error":"#VALUE!"}]
[183,null,"日",null,"時間","","日","","時間","","分","","日","","時間","","分",0,5,{"v":0,"d":"0.00"},{"$error":"#VALUE!"},{"$error":"#VALUE!"},{"$error":"#VALUE!"},{"$error":"#VALUE!"},{"$error":"#VALUE!"}]
[184,null,"日",null,"時間","","日","","時間","","分","","日","","時間","","分",0,5,{"v":0,"d":"0.00"},{"$error":"#VALUE!"},{"$error":"#VALUE!"},{"$error":"#VALUE!"},{"$error":"#VALUE!"},{"$error":"#VALUE!"}]
[185,null,"日",null,"時間","","日","","時間","","分","","日","","時間","","分",0,5,{"v":0,"d":"0.00"},{"$error":"#VALUE!"},{"$error":"#VALUE!"},{"$error":"#VALUE!"},{"$error":"#VALUE!"},{"$error":"#VALUE!"}]
[186,null,"日",null,"時間","","日","","時間","","分","","日","","時間","","分",0,5,{"v":0,"d":"0.00"},{"$error":"#VALUE!"},{"$error":"#VALUE!"},{"$error":"#VALUE!"},{"$error":"#VALUE!"},{"$error":"#VALUE!"}]
[187,null,"日",null,"時間","","日","","時間","","分","","日","","時間","","分",0,5,{"v":0,"d":"0.00"},{"$error":"#VALUE!"},{"$error":"#VALUE!"},{"$error":"#VALUE!"},{"$error":"#VALUE!"},{"$error":"#VALUE!"}]
[188,null,"日",null,"時間","","日","","時間","","分","","日","","時間","","分",0,5,{"v":0,"d":"0.00"},{"$error":"#VALUE!"},{"$error":"#VALUE!"},{"$error":"#VALUE!"},{"$error":"#VALUE!"},{"$error":"#VALUE!"}]
[189,null,"日",null,"時間","","日","","時間","","分","","日","","時間","","分",0,5,{"v":0,"d":"0.00"},{"$error":"#VALUE!"},{"$error":"#VALUE!"},{"$error":"#VALUE!"},{"$error":"#VALUE!"},{"$error":"#VALUE!"}]
[190,null,"日",null,"時間","","日","","時間","","分","","日","","時間","","分",0,5,{"v":0,"d":"0.00"},{"$error":"#VALUE!"},{"$error":"#VALUE!"},{"$error":"#VALUE!"},{"$error":"#VALUE!"},{"$error":"#VALUE!"}]
[191,null,"日",null,"時間","","日","","時間","","分","","日","","時間","","分",0,5,{"v":0,"d":"0.00"},{"$error":"#VALUE!"},{"$error":"#VALUE!"},{"$error":"#VALUE!"},{"$error":"#VALUE!"},{"$error":"#VALUE!"}]
[192,null,"日",null,"時間","","日","","時間","","分","","日","","時間","","分",0,5,{"v":0,"d":"0.00"},{"$error":"#VALUE!"},{"$error":"#VALUE!"},{"$error":"#VALUE!"},{"$error":"#VALUE!"},{"$error":"#VALUE!"}]
[193,null,"日",null,"時間","","日","","時間","","分","","日","","時間","","分",0,5,{"v":0,"d":"0.00"},{"$error":"#VALUE!"},{"$error":"#VALUE!"},{"$error":"#VALUE!"},{"$error":"#VALUE!"},{"$error":"#VALUE!"}]
[194,null,"日",null,"時間",{"$f":"IF(AND(ISBLANK(B197)=TRUE,ISBLANK(D197)=TRUE),\"\",R197+T197)","v":""},"日",{"$f":"IF(AND(ISBLANK(B197)=TRUE,ISBLANK(D197)=TRUE),\"\",INT(U197))","v":""},"時間",{"$f":"IF(AND(ISBLANK(B197)=TRUE,ISBLANK(D197)=TRUE),\"\",MOD(U197,1)*60)","v":""},"分",{"$f":"IF(AND(ISBLANK(B197)=TRUE,ISBLANK(D197)=TRUE),\"\",V197)","v":""},"日",{"$f":"IF(AND(ISBLANK(B197)=TRUE,ISBLANK(D197)=TRUE),\"\",W197)","v":""},"時間",{"$f":"IF(AND(ISBLANK(B197)=TRUE,ISBLANK(D197)=TRUE),\"\",X197)","v":""},"分",0,5,{"v":0,"d":"0.00"},{"$error":"#VALUE!"},{"$error":"#VALUE!"},{"$error":"#VALUE!"},{"$error":"#VALUE!"},{"$error":"#VALUE!"}]
[195,null,"日",null,"時間","","日","","時間","","分","","日","","時間","","分",{"$f":"R197+B198","v":0},{"$f":"S197+D198","v":5},{"$f":"INT(S198/7.75)","v":{"v":0,"d":"0.00"}},{"$f":"IF(H197+J197/60+D198<7.75,H197+J197/60+D198,MOD(H197+J197/60+D198,7.75))","v":{"$error":"#VALUE!"}},{"$f":"IF(N197-D198>=0,L197-B198,L197-B198-1)","v":{"$error":"#VALUE!"}},{"$f":"IF(N197+P197/60-D198>=0,INT(N197+P197/60-D198),INT(N197+P197/60+7.75-D198))","v":{"$error":"#VALUE!"}},{"$f":"IF(N197-D198>=0,MOD(N197+P197/60-D198,1)*60,MOD(N197+7.75+P197/60-D198,1)*60)","v":{"$error":"#VALUE!"}},{"$f":"F198+L198+(H198+J198/60+N198+P198/60)/7.75","v":{"$error":"#VALUE!"}}]
[196,null,"日",null,"時間","","日","","時間","","分","","日","","時間","","分",0,5,{"v":0,"d":"0.00"},{"$error":"#VALUE!"},{"$error":"#VALUE!"},{"$error":"#VALUE!"},{"$error":"#VALUE!"},{"$error":"#VALUE!"}]
[197,null,"日",null,"時間","","日","","時間","","分","","日","","時間","","分",0,5,{"v":0,"d":"0.00"},{"$error":"#VALUE!"},{"$error":"#VALUE!"},{"$error":"#VALUE!"},{"$error":"#VALUE!"},{"$error":"#VALUE!"}]
[198,null,"日",null,"時間","","日","","時間","","分","","日","","時間","","分",0,5,{"v":0,"d":"0.00"},{"$error":"#VALUE!"},{"$error":"#VALUE!"},{"$error":"#VALUE!"},{"$error":"#VALUE!"},{"$error":"#VALUE!"}]
[199,null,"日",null,"時間","","日","","時間","","分","","日","","時間","","分",0,5,{"v":0,"d":"0.00"},{"$error":"#VALUE!"},{"$error":"#VALUE!"},{"$error":"#VALUE!"},{"$error":"#VALUE!"},{"$error":"#VALUE!"}]
[200,null,"日",null,"時間","","日","","時間","","分","","日","","時間","","分",0,5,{"v":0,"d":"0.00"},{"$error":"#VALUE!"},{"$error":"#VALUE!"},{"$error":"#VALUE!"},{"$error":"#VALUE!"},{"$error":"#VALUE!"}]